BEGIN:VCALENDAR
VERSION:2.0
PRODID:-//ChamberMaster//Event Calendar 2.0//EN
METHOD:PUBLISH
X-PUBLISHED-TTL:P3D
REFRESH-INTERVAL:P3D
CALSCALE:GREGORIAN
BEGIN:VEVENT
DTSTART:20141007T163000Z
DTEND:20141007T170000Z
X-MICROSOFT-CDO-ALLDAYEVENT:FALSE
SUMMARY:YWCA Brandon Presents Motivational Speaker: Darci Lang
DESCRIPTION:Darci shares how one simple tool can change the way we look at life and how we deal with the challenges we face everyday.\n\n\n\nEveryone from individuals\, to managers\, to the newest employee can discover something beneficial in Darci's powerful and enduring message.\n\n\n\nDarci Lang is the best selling author of "Focus on the 90%"\n\nwww.darcilang.com
X-ALT-DESC;FMTTYPE=text/html:Darci shares how one simple tool can change the way we look at life and how we deal with the challenges we face everyday.<br />\n<br />\nEveryone from individuals\, to managers\, to the newest employee can discover something beneficial in Darci&#39\;s powerful and enduring message.<br />\n<br />\nDarci Lang is&nbsp\;the best selling author of &quot\;Focus on the 90%&quot\;<br />\n<span style="font-size: 18px\;"><span style="font-family: times new roman\;"><u><em><strong><a href="http://darcilang.com/">www.darcilang.com</a></strong></em></u></span></span>
LOCATION:Keystone Center - Conventional Hall B
UID:e.1595.131
SEQUENCE:3
DTSTAMP:20260421T031435Z
URL:https://dev.brandonchamber.ca/events/details/ywca-brandon-presents-motivational-speaker-darci-lang-10-07-2014-131
END:VEVENT

END:VCALENDAR
