BEGIN:VCALENDAR
VERSION:2.0
PRODID:-//ChamberMaster//Event Calendar 2.0//EN
METHOD:PUBLISH
X-PUBLISHED-TTL:P3D
REFRESH-INTERVAL:P3D
CALSCALE:GREGORIAN
BEGIN:VEVENT
DTSTART:20140313T220000Z
DTEND:20140314T030000Z
X-MICROSOFT-CDO-ALLDAYEVENT:FALSE
SUMMARY:YWCA - 27th Annual Women of Distinction Awards Gala
DESCRIPTION:The YWCA is celebrating their 27th Annual Women of Distinction Awards with a Gala Event
X-ALT-DESC;FMTTYPE=text/html:The YWCA is celebrating their 27th Annual&nbsp\;Women of Distinction Awards with a Gala Event<br type="_moz" />\n
LOCATION:TBA
UID:e.1595.81
SEQUENCE:3
DTSTAMP:20260421T134256Z
URL:https://dev.brandonchamber.ca/events/details/ywca-27th-annual-women-of-distinction-awards-gala-03-13-2014-81
END:VEVENT

END:VCALENDAR
