BEGIN:VCALENDAR
VERSION:2.0
PRODID:-//ChamberMaster//Event Calendar 2.0//EN
METHOD:PUBLISH
X-PUBLISHED-TTL:P3D
REFRESH-INTERVAL:P3D
CALSCALE:GREGORIAN
BEGIN:VEVENT
DTSTART:20140313T223000Z
DTEND:20140314T030000Z
X-MICROSOFT-CDO-ALLDAYEVENT:FALSE
SUMMARY:YWCA 27th Annual WOmen of Distinction Awards Gala
DESCRIPTION:YWCA Women of Distinction Awards Gala\, is an opportunity for people from Brandon and the surrounding area to honor outstanding women in their communities. The Awards Dinner is also the YWCA Brandon's major fundraising event of the year. Support from organizations and businesses\, such as yours\, allows us to continue hosting the Awards Gala and recognizing women for their extraordinary contributions.\n\n\n\nJoin us in recognizing the achievements of women who have made our communities brighter and better. We encourage you to look at the women in your workplaces for nominations\, to purchase tickets to attend this inspirational and well-attended Brandon event\, or to become a Sponsor at the level of your choosing.
X-ALT-DESC;FMTTYPE=text/html:YWCA Women of Distinction Awards Gala\, is an opportunity for people from Brandon and the surrounding area to honor outstanding women in their communities. The Awards Dinner is also the YWCA Brandon&#39\;s major fundraising event of the year. Support from organizations and businesses\, such as yours\, allows us to continue hosting the Awards Gala and recognizing women for their extraordinary contributions.<br />\n<br />\nJoin us in recognizing the achievements of women who have made our communities brighter and better. We encourage you to look at the women in your workplaces for nominations\, to purchase tickets to attend this inspirational and well-attended Brandon event\, or to become a Sponsor at the level of your choosing.<br type="_moz" />\n
LOCATION:Keystone Center - UCT Pavillion
UID:e.1595.71
SEQUENCE:3
DTSTAMP:20260421T122159Z
URL:https://dev.brandonchamber.ca/events/details/ywca-27th-annual-women-of-distinction-awards-gala-03-13-2014-71
END:VEVENT

END:VCALENDAR
