BEGIN:VCALENDAR
VERSION:2.0
PRODID:-//ChamberMaster//Event Calendar 2.0//EN
METHOD:PUBLISH
X-PUBLISHED-TTL:P3D
REFRESH-INTERVAL:P3D
CALSCALE:GREGORIAN
BEGIN:VEVENT
DTSTART:20130528T140000Z
DTEND:20130530T213000Z
X-MICROSOFT-CDO-ALLDAYEVENT:FALSE
SUMMARY:Your Entrepreneurial Jorney Begins Here
DESCRIPTION:Three-Day Business Planning Workshop\n\n"Your Entrepreneurial Journey Begins Here"\n\n\n\nBuild your bottom line by attending this three-day workshop where you will learn how to start and grow your business\n\n\n\nTopics include:\n\nStarting a Business in Manitoba: Everything you need to know to start a small business in MB\, including forms of business organization\, resources available to small businesses\, including financial programs and the components of a business plan.\n\n\n\nAccounting & Financial Management: An overview of accounting\, bookkeeping\, financial statements\, small business taxation rates and deductions\, and GST\, PST and payroll requirements.\n\n\n\nMarketing: An introduction to marketing strategies for small business.
X-ALT-DESC;FMTTYPE=text/html:<strong>Three-Day Business Planning Workshop</strong><br />\n<em>&quot\;Your Entrepreneurial Journey Begins Here&quot\;</em><br />\n<br />\nBuild your bottom line by attending this three-day workshop where you will learn how to start and grow your business<br />\n<br />\n<em>Topics include:</em><br />\n<u><strong>Starting a Business in Manitoba</strong></u>: Everything you need to know to start a small business in MB\, including forms of business organization\, resources available to small businesses\, including financial programs and the components of a business plan.<br />\n<br />\n<strong><u>Accounting &amp\; Financial Management</u></strong>: An overview of accounting\, bookkeeping\, financial statements\, small business taxation rates and deductions\, and GST\, PST and payroll requirements.<br />\n<br />\n<u><strong>Marketing</strong></u>: An introduction to marketing strategies for small business.
LOCATION:Brandon Provincial Building - Room B340 - 9th St - Brandon\, MB
UID:e.1595.25
SEQUENCE:3
DTSTAMP:20260421T233717Z
URL:https://dev.brandonchamber.ca/events/details/your-entrepreneurial-jorney-begins-here-05-28-2013-25
END:VEVENT

END:VCALENDAR
