BEGIN:VCALENDAR
VERSION:2.0
PRODID:-//ChamberMaster//Event Calendar 2.0//EN
METHOD:PUBLISH
X-PUBLISHED-TTL:P3D
REFRESH-INTERVAL:P3D
CALSCALE:GREGORIAN
BEGIN:VEVENT
DTSTART:20140305T160000Z
DTEND:20140305T180000Z
X-MICROSOFT-CDO-ALLDAYEVENT:FALSE
SUMMARY:Workshop: What is My Data Saying? Basic Key Ratios Workshop
DESCRIPTION:What is My Data Saying? A Case-Study approach on analyzing your financial statements.\n\n	 Help understand what your numbers are saying\n\n	 Learn basic key ratios - what they are and how to calculate and interpret them\n\n	 Learn industry standard benchmarking\n\n	 what kind of analysis do they perform? What are their benchmarks?\n\n	 Understand what your business is worth\n\n	 EBITDA: what does it mean and how do you calculate it? \n\n	 Co-facilitated by BDO LLP & RBC \nIn partnership with Brandon Chamber of Commerce\, Economic Development Brandon & Entrepreneurship Manitoba
X-ALT-DESC;FMTTYPE=text/html:What is My Data Saying? A Case-Study approach on analyzing your financial statements.\n<p>\n	<span style="font-size: medium\;"><span style="font-family: calibri\;">&gt\;Help understand what your numbers are saying</span></span></p>\n<p>\n	<span style="font-size: medium\;"><span style="font-family: calibri\;">&gt\;Learn basic key ratios - what they are and how to calculate and interpret them</span></span></p>\n<p>\n	<span style="font-size: medium\;"><span style="font-family: calibri\;">&gt\;Learn industry standard benchmarking</span></span></p>\n<p>\n	<span style="font-size: medium\;"><span style="font-family: calibri\;">&gt\;what kind of analysis do they perform? What are their benchmarks?</span></span></p>\n<p>\n	<span style="font-size: medium\;"><span style="font-family: calibri\;">&gt\;Understand what your business is worth</span></span></p>\n<p>\n	<span style="font-size: medium\;"><span style="font-family: calibri\;">&gt\;EBITDA: what does it mean and how do you calculate it? </span></span></p>\n<p>\n	<span style="font-size: medium\;"><span style="font-family: calibri\;">&gt\;Co-facilitated by BDO LLP &amp\; RBC </span></span></p>\n<em><span style="font-size: 9pt\;"><span style="font-family: calibri\;">In partnership with Brandon Chamber of Commerce\, Economic Development Brandon &amp\; Entrepreneurship Manitoba</span></span></em><br />\n<br />\n<br type="_moz" />\n
LOCATION:Royal Oak Inn & Suites
UID:e.1595.86
SEQUENCE:3
DTSTAMP:20260421T094940Z
URL:https://dev.brandonchamber.ca/events/details/workshop-what-is-my-data-saying-basic-key-ratios-workshop-03-05-2014-86
END:VEVENT

END:VCALENDAR
