BEGIN:VCALENDAR
VERSION:2.0
PRODID:-//ChamberMaster//Event Calendar 2.0//EN
METHOD:PUBLISH
X-PUBLISHED-TTL:P3D
REFRESH-INTERVAL:P3D
CALSCALE:GREGORIAN
BEGIN:VEVENT
DTSTART:20130620T150000Z
DTEND:20130620T170000Z
X-MICROSOFT-CDO-ALLDAYEVENT:FALSE
SUMMARY:WordPress Workshop
DESCRIPTION:Steve Langston and Dirty TShirt Productions are partnering with the Brandon Chamber of Commerce to offer their first WordPress Workshop.\n\n\n\nThe Course will be taught by Steve Langston- President of Dirty TShirt Productions\, and will focus on giving people the skills to manage their own website.\n\n\n\n\n	At the end of this 2 hour course participants will learn:\n\n	Logging into the administration area.\n\n	Creating posts and pages.\n\n	Embedding images\, videos and links.\n\n	Using featured images.\n\n	How to use Google Analytics.\n\n	Adding plugins.\n\n	Updating & backing up WordPress\n\n	How to build mobile friendly sites.\n\n\n\n\nPlease Note: You will be required to bring your own laptop
X-ALT-DESC;FMTTYPE=text/html:Steve Langston and Dirty TShirt Productions are partnering with the Brandon Chamber of Commerce to offer their first WordPress Workshop.<br />\n<br />\nThe Course will be taught by Steve Langston- President of Dirty TShirt Productions\, and will focus on giving people the skills to manage their own website.<br />\n<br />\n<p>\n	<strong>At the end of this 2 hour course participants will learn:</strong></p>\n<p>\n	Logging into the administration area.<br />\n	Creating posts and pages.<br />\n	Embedding images\, videos and links.<br />\n	Using featured images.<br />\n	How to use Google Analytics.<br />\n	Adding plugins.<br />\n	Updating &amp\; backing up WordPress<br />\n	How to build mobile friendly sites.</p>\n<br />\n<br />\nPlease Note: You will be required to bring your own laptop
LOCATION:Brandon Chamber of Commerce\, 1043 Rosser Avenue\, Brandon
UID:e.1595.27
SEQUENCE:3
DTSTAMP:20260421T222013Z
URL:https://dev.brandonchamber.ca/events/details/wordpress-workshop-06-20-2013-27
END:VEVENT

END:VCALENDAR
