BEGIN:VCALENDAR
VERSION:2.0
PRODID:-//ChamberMaster//Event Calendar 2.0//EN
METHOD:PUBLISH
X-PUBLISHED-TTL:P3D
REFRESH-INTERVAL:P3D
CALSCALE:GREGORIAN
BEGIN:VEVENT
DTSTART:20150211T144500Z
DTEND:20150211T210000Z
X-MICROSOFT-CDO-ALLDAYEVENT:FALSE
SUMMARY:Westman LEAN Consortium
DESCRIPTION:The WESTMAN LEAN CONSORTIUM formally invites you to be part of the power of a LEAN CONSORTIA\n\n\n\nEVENT HIGHLIGHTS\n\n\n	Why Consortia? Presentations from McCain Foods\, Prairie Forest Industries\, Behlen Industries\, and Canadian Manufacturers & Exporters\n	Experience & understand LEAN with a hands on simulation exercise \n	Guest Speaker\, Brett Hiscock is a lean facilitator at CME and is a Master Blackbelt in training. He facilitates 5 consortiums across Manitoba\, totaling approximately 50 companies. He is also responsible for marketing and delivering Training Within Industry (TWI) programs across Canada. Click here to watch video. \n	Networking Lunch\n	8 Forms of Waste & Plant Tour\n\nClick here if you waant to learn more about this event and what a LEAN Consortium is.
X-ALT-DESC;FMTTYPE=text/html:<strong>The WESTMAN LEAN CONSORTIUM formally invites you to be part of the power of a LEAN CONSORTIA</strong><br />\n<br />\n<strong>EVENT HIGHLIGHTS</strong>\n\n<ul>\n	<li>Why Consortia? Presentations from McCain Foods\, Prairie&nbsp\;Forest Industries\, Behlen Industries\, and Canadian&nbsp\;Manufacturers &amp\; Exporters</li>\n	<li>Experience &amp\; understand LEAN with a hands on simulation exercise&nbsp\;</li>\n	<li>Guest Speaker\, Brett Hiscock is a lean facilitator at CME and is a Master Blackbelt in training. He facilitates 5 consortiums across Manitoba\, totaling approximately 50 companies. He is also responsible for marketing and delivering Training Within Industry (TWI) programs across Canada. <a href="https://www.youtube.com/watch?v=YTbxh17FyJs">Click here to watch video.</a>&nbsp\;</li>\n	<li>Networking Lunch</li>\n	<li>8 Forms of Waste &amp\; Plant Tour</li>\n</ul>\n<a href="http://www.behlen.ca/blog/2015/01/30/behlen-westman-lean-consortium/">Click here if you waant to learn more about this event and what a LEAN Consortium is.</a>
LOCATION:Behlen Industries\, 927 Douglas Street\, Brandon
UID:e.1595.255
SEQUENCE:3
DTSTAMP:20260422T102601Z
URL:https://dev.brandonchamber.ca/events/details/westman-lean-consortium-02-11-2015-255
END:VEVENT

END:VCALENDAR
