BEGIN:VCALENDAR
VERSION:2.0
PRODID:-//ChamberMaster//Event Calendar 2.0//EN
METHOD:PUBLISH
X-PUBLISHED-TTL:P3D
REFRESH-INTERVAL:P3D
CALSCALE:GREGORIAN
BEGIN:VEVENT
DTSTART;VALUE=DATE:20160406
DTEND;VALUE=DATE:20160408
TRANSP:TRANSPARENT
X-MICROSOFT-CDO-ALLDAYEVENT:TRUE
SUMMARY:WESTMAN ENTREPRENEUR BOOT CAMP
DESCRIPTION:Attention Entrepreneurs!\n\n \n\nRegistration is Now Open for the Westman Entrepreneur Boot Camp. See below for more details and how to register.\n\n \n\nDO YOU HAVE A NEW BUSINESS? Or A BUSINESS YOU WANT TO GROW?\n\n \n\nThe Westman Entrepreneur Boot Camp will give you information and tools to enhance your business skills and help you succeed. This is your chance to network with business professionals and like-minded entrepreneurs.\n\n \n\nTESTIMONIALS\n\n \n\n"I learned more from the experience in these two days than a year of reading business books". ~ Aida Tahhan   Aida's Catering\n\n\n\n"The One-on-One Advisors were very valuable.  With the overview of each Advisors' experience and expertise\, I was able to choose who would relate best to me and what was most interesting to me.  I was able to customize these sessions to meet my needs". ~ Warren Genik   AgSky Technologies\n\n\n\n"These two days of networking\, meeting everyone and sharing our stories and views has been worth it". ~ Gail Freeman Campbell - Daughter On Call\n\n\n\n"I enjoyed the morning!  It was an amazing group of people.  I have to say I was pretty pumped when I got back to the caf ! I think the entire process completely rejuvenated me!" ~  Lori Versavel   Coffee Culture Caf  & Eatery\n\n\n\n"Participation in the Entrepreneur Boot Camp helped participants focus on their business and focus on the goals of their business\, giving them clarity and direction".  ~ Chris Sobchuk   Allen Leigh Security & Communications\n\n \n\nHIGHLIGHTS\n\n\n	Learn from serial entrepreneur Randy Thompson\, founder of VA Angels\, the most active investor group in Canada with over $28 million invested \n	Day One:\n	\n		Participate in an interactive workshop that covers five key areas startups need to consider: products\, customers\, markets\, business models and management teams \n	\n	\n	Day Two:\n	\n		Learn how to make an business pitch \n		Take advantage of one-on-one business mentoring sessions\n		Compete in a business Pitch Competition to receive feedback from experienced judges and a chance to win up to $6\,000 in cash and in-kind awards \n	\n	\n\nOnly 25 Spots Available.\n\nTo Register and for more information:  www.innovatemanitoba.ca
X-ALT-DESC;FMTTYPE=text/html:<span style="font-size: 22pt\;"><span style="font-family: britannic bold\,sans-serif\;"><span style="color: rgb(109\, 110\, 112)\;">Attention Entrepreneurs!</span></span></span><br />\n&nbsp\;<br />\n<strong><span style="font-size: 14pt\;"><span style="font-family: constantia\,serif\;"><span style="color: black\;">Registration is Now Open</span></span></span></strong><span style="font-size: 14pt\;"><span style="font-family: constantia\,serif\;"><span style="color: black\;"> for the <strong>Westman Entrepreneur Boot Camp</strong>. See below for more details and how to register.</span></span></span><br />\n&nbsp\;<br />\n<span style="font-size: 20pt\;"><span style="font-family: britannic bold\,sans-serif\;"><span style="color: rgb(109\, 110\, 112)\;">DO YOU HAVE A NEW BUSINESS? Or A BUSINESS YOU WANT TO GROW?</span></span></span><br />\n&nbsp\;<br />\n<span style="font-size: 13pt\;"><span style="font-family: constantia\,serif\;"><span style="color: black\;">The Westman Entrepreneur Boot Camp will give you information and tools to enhance your business skills and help you succeed. This is your chance to network with business professionals and like-minded entrepreneurs.</span></span></span><br />\n&nbsp\;<br />\n<span style="font-size: 16pt\;"><span style="font-family: britannic bold\,sans-serif\;"><span style="color: rgb(109\, 110\, 112)\;">TESTIMONIALS</span></span></span><br />\n&nbsp\;<br />\n<em><span style="font-size: 12pt\;"><span style="font-family: arial\,sans-serif\;">&quot\;I learned more from the experience in these two days than a year of reading business books&quot\;. ~ Aida Tahhan &ndash\; Aida&rsquo\;s Catering</span></span></em><br />\n<br />\n<em><span style="font-size: 12pt\;"><span style="font-family: arial\,sans-serif\;">&quot\;The One-on-One Advisors were very valuable.&nbsp\; With the overview of each Advisors&rsquo\; experience and expertise\, I was able to choose who would relate best to me and what was most interesting to me.&nbsp\; I was able to customize these sessions to meet my needs&quot\;. ~ Warren Genik &ndash\; AgSky Technologies</span></span></em><br />\n<br />\n<em><span style="font-size: 12pt\;"><span style="font-family: arial\,sans-serif\;">&quot\;These two days of networking\, meeting everyone and sharing our stories and views has been worth it&quot\;. ~ Gail Freeman&ndash\;Campbell - Daughter On Call</span></span></em><br />\n<br />\n<em><span style="font-size: 12pt\;"><span style="font-family: arial\,sans-serif\;">&ldquo\;I enjoyed the morning!&nbsp\; It was an amazing group of people.&nbsp\; I have to say I was pretty pumped when I got back to the caf&eacute\;! I think the entire process completely rejuvenated me!&rdquo\; ~ &nbsp\;Lori Versavel &ndash\; Coffee Culture Caf&eacute\; &amp\; Eatery</span></span></em><br />\n<br />\n<em><span style="font-size: 12pt\;"><span style="font-family: arial\,sans-serif\;">&quot\;Participation in the Entrepreneur Boot Camp helped participants focus on their business and focus on the goals of their business\, giving them clarity and direction&quot\;.&nbsp\; ~ Chris Sobchuk &ndash\; Allen Leigh Security &amp\; Communications</span></span></em><br />\n&nbsp\;<br />\n<span style="font-size: 16pt\;"><span style="font-family: britannic bold\,sans-serif\;"><span style="color: rgb(109\, 110\, 112)\;">HIGHLIGHTS</span></span></span>\n\n<ul>\n	<li><span style="font-size: 13pt\;"><span style="font-family: constantia\,serif\;"><span style="color: black\;">Learn from serial entrepreneur Randy Thompson\, founder of VA Angels\, the most active investor group in Canada with over $28 million invested&nbsp\;</span></span></span></li>\n	<li><span style="font-size: 14pt\;"><span style="font-family: britannic bold\,sans-serif\;"><span style="color: rgb(109\, 110\, 112)\;">Day One:</span></span></span>\n	<ul>\n		<li><span style="font-size: 13pt\;"><span style="font-family: constantia\,serif\;"><span style="color: black\;">Participate in an interactive workshop that covers five key areas startups need to consider: products\, customers\, markets\, business models and management teams&nbsp\;</span></span></span></li>\n	</ul>\n	</li>\n	<li><span style="font-size: 14pt\;"><span style="font-family: britannic bold\,sans-serif\;"><span style="color: rgb(109\, 110\, 112)\;">Day Two:</span></span></span>\n	<ul>\n		<li><span style="font-size: 13pt\;"><span style="font-family: constantia\,serif\;"><span style="color: black\;">Learn how to make an business pitch </span></span></span></li>\n		<li><span style="font-size: 13pt\;"><span style="font-family: constantia\,serif\;"><span style="color: black\;">Take advantage of one-on-one business mentoring sessions</span></span></span></li>\n		<li><span style="font-size: 13pt\;"><span style="font-family: constantia\,serif\;"><span style="color: black\;">Compete in a business Pitch Competition to receive feedback from experienced judges and a chance to win up to $6\,000 in cash and in-kind awards</span></span></span>&nbsp\;</li>\n	</ul>\n	</li>\n</ul>\n<strong><span style="font-size: 13pt\;"><span style="font-family: constantia\,serif\;"><span style="color: black\;">Only 25 Spots Available.</span></span></span></strong><br />\n<strong><span style="font-size: 13pt\;"><span style="font-family: constantia\,serif\;"><span style="color: black\;">To Register and for more information:&nbsp\; <a href="http://www.innovatemanitoba.ca/"><span style="color: rgb(0\, 0\, 255)\;">www.innovatemanitoba.ca</span></a></span></span></span></strong><br />\n&nbsp\;
LOCATION:Victoria Inn Hotel & Conference Centre | 3550 Victoria Avenue | Brandon Manitoba
UID:e.1595.406
SEQUENCE:3
DTSTAMP:20260419T165640Z
URL:https://dev.brandonchamber.ca/events/details/westman-entrepreneur-boot-camp-04-06-2016-406
END:VEVENT

END:VCALENDAR
