BEGIN:VCALENDAR
VERSION:2.0
PRODID:-//ChamberMaster//Event Calendar 2.0//EN
METHOD:PUBLISH
X-PUBLISHED-TTL:P3D
REFRESH-INTERVAL:P3D
CALSCALE:GREGORIAN
BEGIN:VEVENT
DTSTART;VALUE=DATE:20130910
DTEND;VALUE=DATE:20130915
TRANSP:TRANSPARENT
X-MICROSOFT-CDO-ALLDAYEVENT:TRUE
SUMMARY:Westman Corporate Challenge
DESCRIPTION:BDO Canada LLP is proud to present the Westman Corporate Challenge in support of the Women's Resource Centre.\n\n\n\nThe Westman Corporate Challenge is an Olympic-style event in which businesses will compete in various sporting events and mental challenges in the evenings and on the weekend the week of Sept 10-14.
X-ALT-DESC;FMTTYPE=text/html:BDO Canada LLP is proud to present the Westman Corporate Challenge in support of the Women&#39\;s Resource Centre.<br />\n<br />\nThe Westman Corporate Challenge is an Olympic-style event in which businesses will compete in various sporting events and mental challenges in the evenings and on the weekend the week of Sept 10-14. 
LOCATION:Various locations
UID:e.1595.33
SEQUENCE:3
DTSTAMP:20260421T205040Z
URL:https://dev.brandonchamber.ca/events/details/westman-corporate-challenge-09-10-2013-33
END:VEVENT

END:VCALENDAR
