BEGIN:VCALENDAR
VERSION:2.0
PRODID:-//ChamberMaster//Event Calendar 2.0//EN
METHOD:PUBLISH
X-PUBLISHED-TTL:P3D
REFRESH-INTERVAL:P3D
CALSCALE:GREGORIAN
BEGIN:VEVENT
DTSTART;VALUE=DATE:20150930
DTEND;VALUE=DATE:20151003
TRANSP:TRANSPARENT
X-MICROSOFT-CDO-ALLDAYEVENT:TRUE
SUMMARY:Westman Conference on Disability and Employment
DESCRIPTION:On September 30   October 2\, 2015 Westman Employment Services Inc. will be hosting a conference entitled "Diversity in Employment: Opportunities for Success" at the Victoria Inn in Brandon.  The conference will center around the issue of employment and how it impacts on people with disabilities.\n\n \n\nWe will be playing host to service providers\, advocates\, self-advocates\, educators\, employers and policy makers who share the common goal of building a more inclusive workforce in Manitoba. We anticipate attendance at the conference to be between 150   200.\n\n \n\nThis is a very exciting event for Westman as we will also be hosting the "Kick Off" for Disability Employment Awareness Month (DEAM) as well as the roll out of the first phase of the Accessibility Legislation.
X-ALT-DESC;FMTTYPE=text/html:<span style="color: windowtext\;">On September 30 &ndash\; October 2\, 2015 Westman Employment Services Inc. will be hosting a conference entitled &ldquo\;Diversity in Employment: Opportunities for Success&rdquo\; at the Victoria Inn in Brandon.&nbsp\; The conference will center around the issue of employment and how it impacts on people with disabilities.</span><br />\n&nbsp\;<br />\nWe will be playing host to service providers\, advocates\, self-advocates\, educators\, employers and policy makers who share the common goal of building a more inclusive workforce in Manitoba. <span style="color: windowtext\;">We anticipate attendance at the conference to be between 150 &ndash\; 200.</span><br />\n&nbsp\;<br />\n<span style="color: windowtext\;">This is a very exciting event for Westman as we will also be hosting the &ldquo\;Kick Off&rdquo\; for Disability Employment Awareness Month (DEAM) as well as the roll out of the first phase of the Accessibility Legislation.</span>
LOCATION:Victoria Inn Brandon MB
UID:e.1595.341
SEQUENCE:3
DTSTAMP:20260419T234349Z
URL:https://dev.brandonchamber.ca/events/details/westman-conference-on-disability-and-employment-09-30-2015-341
END:VEVENT

END:VCALENDAR
