BEGIN:VCALENDAR
VERSION:2.0
PRODID:-//ChamberMaster//Event Calendar 2.0//EN
METHOD:PUBLISH
X-PUBLISHED-TTL:P3D
REFRESH-INTERVAL:P3D
CALSCALE:GREGORIAN
BEGIN:VEVENT
DTSTART:20150618T220000Z
DTEND:20150618T230000Z
X-MICROSOFT-CDO-ALLDAYEVENT:FALSE
SUMMARY:Temporary Signs - Love 'em or Hate 'em?
DESCRIPTION:The City of Brandon Planning & Building Safety Department is starting the process to review and update the current Temporary Sign By-law in regards to how temporary signs should be included within our neighbourhoods and streetscapes. The by-law regulates various types of temporary signs\, including sandwich board signs\, real estate signs\, construction signs and mobile signs\, among others. Please join us at our open house to provide us with your input on temporary signs within the City of Brandon.
X-ALT-DESC;FMTTYPE=text/html:<div style="text-align: justify\;"><span style="font-family:calibri"><span style="font-size:12pt">The City of Brandon Planning &amp\; Building Safety Department is starting the process to review and update the current Temporary Sign By-law in regards to</span><span style="font-size:12pt"> how temporary signs should be included within our neighbourhoods and streetscapes</span><span style="font-size:12pt">. The by-law regulates various types of temporary signs\, including </span><span style="font-size:12pt">sandwich board signs\, real estate signs\, construction signs and mobile signs\, among others. Please join us at our open house to provide us with your input on temporary signs within the City of Brandon. </span></span></div>\n
LOCATION:Brandon Design Studio\, in the A.R. McDiarmid Civic Complex\, 638 Princess Avenue (East Entance)
UID:e.1595.326
SEQUENCE:3
DTSTAMP:20260420T052947Z
URL:https://dev.brandonchamber.ca/events/details/temporary-signs-love-em-or-hate-em-06-18-2015-326
END:VEVENT

END:VCALENDAR
