BEGIN:VCALENDAR
VERSION:2.0
PRODID:-//ChamberMaster//Event Calendar 2.0//EN
METHOD:PUBLISH
X-PUBLISHED-TTL:P3D
REFRESH-INTERVAL:P3D
CALSCALE:GREGORIAN
BEGIN:VEVENT
DTSTART:20141106T173000Z
DTEND:20141106T190000Z
X-MICROSOFT-CDO-ALLDAYEVENT:FALSE
SUMMARY:Taste Of Beef
DESCRIPTION:The Provincial Exhibition of Manitoba invites you to attend\, Taste of Beef\, an event of the Manitoba Livestock Expo.\n\n\n\nJoin us for a lunch featuring a variety of beef dishes and a special guest speaker - Dave Solverson\, President of the Canadian Cattlemen's Association (CCA). Mr. Solverson will be addressing Canadian cattle and beef production and the economic contribution of industry.\n\n\n\nThe CCA is the national voice of Canada's 68\,500 beef farms and feedlots. Founded by producers and led by a producer-elected board of directors\, CCA works to address issues that concern Canada's beef producers
X-ALT-DESC;FMTTYPE=text/html:The Provincial Exhibition of Manitoba invites you to attend\, Taste of Beef\, an event of the Manitoba Livestock Expo.<br>\n<br>\nJoin us for a lunch featuring a variety of beef dishes and a special guest speaker - Dave Solverson\, President of the Canadian Cattlemen's Association (CCA). Mr. Solverson will be addressing Canadian cattle and beef production and the economic contribution of industry.<br>\n<br>\n<em><span style="font-family:times new roman\;">The CCA is the national voice of Canada's 68\,500 beef farms and feedlots. Founded by producers and led by a producer-elected board of directors\, CCA works to address issues that concern Canada's beef producers</span></em>
LOCATION:Great Western Roadhouse - Canad Inns Destination Centre Brandon
UID:e.1595.169
SEQUENCE:3
DTSTAMP:20260421T013911Z
URL:https://dev.brandonchamber.ca/events/details/taste-of-beef-11-06-2014-169
END:VEVENT

END:VCALENDAR
