BEGIN:VCALENDAR
VERSION:2.0
PRODID:-//ChamberMaster//Event Calendar 2.0//EN
METHOD:PUBLISH
X-PUBLISHED-TTL:P3D
REFRESH-INTERVAL:P3D
CALSCALE:GREGORIAN
BEGIN:VEVENT
DTSTART:20141028T233000Z
DTEND:20141028T233000Z
X-MICROSOFT-CDO-ALLDAYEVENT:FALSE
SUMMARY:Succesion Planning
DESCRIPTION:Join RBC Wealth Management Dominion Securities to learn about issues that affect business owners like you.\n\n \nHost: Dwane Brosseau\, Investment Advisor with RBC Dominion Securities\n\nSpeaker: Don Bell\, Will & Estate Consultant with RBC Wealth Management Services\n\n\n\nAppetizers and cocktails will be served
X-ALT-DESC;FMTTYPE=text/html:Join RBC Wealth Management Dominion Securities to learn about issues that affect business owners like you.<br />\n&nbsp\;\n<p>Host: Dwane Brosseau\, Investment Advisor with RBC Dominion Securities<br />\nSpeaker: Don Bell\, Will &amp\; Estate Consultant with RBC Wealth Management Services<br />\n<br />\nAppetizers and cocktails will be served</p>\n
LOCATION:RBC Royal Bank 661 18th Street Brandon\, MB
UID:e.1595.164
SEQUENCE:3
DTSTAMP:20260421T030032Z
URL:https://dev.brandonchamber.ca/events/details/succesion-planning-10-28-2014-164
END:VEVENT

END:VCALENDAR
