BEGIN:VCALENDAR
VERSION:2.0
PRODID:-//ChamberMaster//Event Calendar 2.0//EN
METHOD:PUBLISH
X-PUBLISHED-TTL:P3D
REFRESH-INTERVAL:P3D
CALSCALE:GREGORIAN
BEGIN:VEVENT
DTSTART;VALUE=DATE:20140326
DTEND;VALUE=DATE:20140327
TRANSP:TRANSPARENT
X-MICROSOFT-CDO-ALLDAYEVENT:TRUE
SUMMARY:Spring Fling: Bud\, Spud & the Beetles
DESCRIPTION:The Counselling Centre presents:\n\nSpring Fling\n\nBud\, Spud & The Beetles
X-ALT-DESC;FMTTYPE=text/html:<span style="color:black\;"><span style="font-family:calibri\,sans-serif\;"><span style="font-size:12.0pt\;">The Counselling Centre presents:<br />\nSpring Fling<br />\nBud\, Spud &amp\; The Beetles</span></span></span><br />\n&nbsp\;
LOCATION:The Roadhouse
UID:e.1595.89
SEQUENCE:3
DTSTAMP:20260421T133802Z
URL:https://dev.brandonchamber.ca/events/details/spring-fling-bud-spud-the-beetles-03-26-2014-89
END:VEVENT

END:VCALENDAR
