BEGIN:VCALENDAR
VERSION:2.0
PRODID:-//ChamberMaster//Event Calendar 2.0//EN
METHOD:PUBLISH
X-PUBLISHED-TTL:P3D
REFRESH-INTERVAL:P3D
CALSCALE:GREGORIAN
BEGIN:VEVENT
DTSTART:20150128T150000Z
DTEND:20150128T173000Z
X-MICROSOFT-CDO-ALLDAYEVENT:FALSE
SUMMARY:Social Media Workshop
DESCRIPTION:Connections Workshop - How to Build an Online Community to Strengthen Your Brand.\n\n\n\nPresented by Rachelle Taylor and Monique Pantel creators of Prairie Yogi Inc\, and online community of yogis that was built using the power of social media to grow their brand and sell their products. \n\n\n\n***ATTENDEES SHOULD BRING THEIR LAPTOPS***\n\n\n\nLearn how to:\n\n	-Find and engage your audience\n	-Extend your brand's reach viw social media platforms\n	-Create engaging content-driven marketing the converts\n	-Read social analytics and see what consumers are responding to\n	-Understand social "Searchability". Finding your audience (and vice-versa) using search engine optimization and hashtags\n	-Connect with thought leaders within social media and partner with them to elevate your brand and connect with greater audiences\n	-Strategically build community to reach your desired market\n	-Create a branded blog to boost your traffic to your website and garner a stronger social media network\n	-Incorporate SEO best practices in your social media strategy blog\n	-Decide which is best for your brand: content creation vs curation\n	-Use FREE tools to create custom content\n\n\n\nSponsored by: Entrepreneurship MB\, Economic Development Brandon\, Brandon Chamber of Commerce\n\n\n\nClick to view the poster
X-ALT-DESC;FMTTYPE=text/html:Connections Workshop - How to Build an Online Community to Strengthen Your Brand.<br />\n<br />\n<em>Presented by Rachelle Taylor and Monique Pantel creators of Prairie Yogi Inc\, and online community of yogis that was built using the power of social media to grow their brand and sell their products.&nbsp\;<br />\n<br />\n<strong><u>***ATTENDEES SHOULD BRING THEIR LAPTOPS***</u></strong></em><br />\n<br />\nLearn how to:\n<ul>\n	<li>-Find and engage your audience</li>\n	<li>-Extend your brand&#39\;s reach viw social media platforms</li>\n	<li>-Create engaging content-driven marketing the converts</li>\n	<li>-Read social analytics and see what consumers are responding to</li>\n	<li>-Understand social &quot\;Searchability&quot\;. Finding your audience (and vice-versa) using search engine optimization and hashtags</li>\n	<li>-Connect with thought leaders within social media and partner with them to elevate your brand and connect with greater audiences</li>\n	<li>-Strategically build community to reach your desired market</li>\n	<li>-Create a branded blog to boost your traffic to your website and garner a stronger social media network</li>\n	<li>-Incorporate SEO best practices in your social media strategy blog</li>\n	<li>-Decide which is best for your brand: content creation vs curation</li>\n	<li>-Use FREE tools to create custom content</li>\n</ul>\n<br />\n<em>Sponsored by: Entrepreneurship MB\, Economic Development Brandon\, Brandon Chamber of Commerce</em><br />\n<br />\n<a href="http://www.brandonchamber.ca/wp-content/uploads/2015/01/Social-Media-workshop-Jan-15.jpg">Click </a>to view the poster
LOCATION:Riverbank Discovery Centre - 545 Conservation Dr - Brandon\, MB
UID:e.1595.203
SEQUENCE:3
DTSTAMP:20260420T201042Z
URL:https://dev.brandonchamber.ca/events/details/social-media-workshop-01-28-2015-203
END:VEVENT

END:VCALENDAR
