BEGIN:VCALENDAR
VERSION:2.0
PRODID:-//ChamberMaster//Event Calendar 2.0//EN
METHOD:PUBLISH
X-PUBLISHED-TTL:P3D
REFRESH-INTERVAL:P3D
CALSCALE:GREGORIAN
BEGIN:VEVENT
DTSTART:20131023T140000Z
DTEND:20131023T173000Z
X-MICROSOFT-CDO-ALLDAYEVENT:FALSE
SUMMARY:Small Business Week Workshop - High Performance Team Building - Second Session
DESCRIPTION:Due to popular demand we have added another "High Performance Team Building" session by Tanya LaBuick of LaBuick Consulting\n\n\n\nDo you know how to take your team to a high performance level? Join Tanya LaBuick of LaBuick Consulting  to understand more about the formation and management of high performance teams and how you can move your team from good to great!\n\n\n\nHosted by: Brandon Chamber of Commerce\, Economic Development Brandon\, and Entrepreneurship Manitoba\n\n\n\nHosted by:\n\nBrandon Chamber of Commerce\n\nEntrepreneurship Manitoba\n\nEconomic Development Brandon\n\n\n\nLunch Provided
X-ALT-DESC;FMTTYPE=text/html:Due to popular demand we have added another &quot\;High Performance Team Building&quot\; session by Tanya LaBuick of LaBuick Consulting<br />\n<br />\nDo you know how to take your team to a high performance level? Join Tanya LaBuick of <a href="http://tanyalabuick.com/" target="_blank">LaBuick Consulting&nbsp\;</a>&nbsp\;to understand more about the formation and management of high performance teams and how you can move your team from good to great!<br />\n<br />\nHosted by: Brandon Chamber of Commerce\, Economic Development Brandon\, and Entrepreneurship Manitoba<br />\n<br />\nHosted by:<br />\n<a href="http://www.brandonchamber.ca">Brandon Chamber of Commerce</a><br />\n<a href="http://www.manitoba.ca/business">Entrepreneurship Manitoba</a><br />\n<a href="http://www.economicdevelopmentbrandon.com/">Economic Development Brandon</a><br />\n<br />\nLunch Provided
LOCATION:Royal Oak Inn & Suites
UID:e.1595.61
SEQUENCE:3
DTSTAMP:20260421T164812Z
URL:https://dev.brandonchamber.ca/events/details/small-business-week-workshop-high-performance-team-building-second-session-10-23-2013-61
END:VEVENT

END:VCALENDAR
