BEGIN:VCALENDAR
VERSION:2.0
PRODID:-//ChamberMaster//Event Calendar 2.0//EN
METHOD:PUBLISH
X-PUBLISHED-TTL:P3D
REFRESH-INTERVAL:P3D
CALSCALE:GREGORIAN
BEGIN:VEVENT
DTSTART:20131025T140000Z
DTEND:20131025T170000Z
X-MICROSOFT-CDO-ALLDAYEVENT:FALSE
SUMMARY:Small Business Week Workshop - Business Transition - The Ultimate Long-Term Strategic Direction
DESCRIPTION:Small Business Week's final workshop is presented by Grant Robinson\, Partner & Director of The BDO SuccessCare Program BDO LLP  on Business Transition - The Ultimate Long-Term Strategic Direction. \n\n\n\nOne day you will sell your business - either voluntarily under your terms or involuntarily as a result of death\, disability\, disagreement\, or decline in profitability. Discover a tried-and-true process for enabling a voluntary sale and the choice to sell to someone within your family or business\, or an outside third party.\n\n\n\nDemographics indicate that 70% of today's businesses will change hands within the next 5 to 10 years. Yet less than half of business owners have a plan in place to ensure they can exit under their terms. Join Grant Robinson\, Business Transition Specialist and National Director of The BDO SuccessCare Program\, to learn how to proactively plan for the future by integrating your long-term business strategy with a proven approach to preparing your business for its inevitable sale.\n\n\n\nHosted by:\n\nBrandon Chamber of Commerce\n\nEntrepreneurship Manitoba\n\nEconomic Development Brandon\n\n\n\nLunch is provided
X-ALT-DESC;FMTTYPE=text/html:Small Business Week&#39\;s final workshop is presented by Grant Robinson\, Partner &amp\; Director of The BDO SuccessCare Program <a href="http://www.bdo.ca/en/pages/default.aspx" target="_blank">BDO LLP</a>&nbsp\;&nbsp\;on Business Transition - The Ultimate Long-Term Strategic Direction.&nbsp\;<br />\n<br />\nOne day you will sell your business - either voluntarily under your terms or involuntarily as a result of death\, disability\, disagreement\, or decline in profitability. Discover a tried-and-true process for enabling a voluntary sale and the choice to sell to someone within your family or business\, or an outside third party.<br />\n<br />\nDemographics indicate that 70% of today&#39\;s businesses will change hands within the next 5 to 10 years. Yet less than half of business owners have a plan in place to ensure they can exit under their terms. Join Grant Robinson\, Business Transition Specialist and National Director of The BDO SuccessCare Program\, to learn how to proactively plan for the future by integrating your long-term business strategy with a proven approach to preparing your business for its inevitable sale.<br />\n<br />\nHosted by:<br />\n<a href="http://www.brandonchamber.ca">Brandon Chamber of Commerce</a><br />\n<a href="http://www.manitoba.ca/business">Entrepreneurship Manitoba</a><br />\n<a href="http://www.economicdevelopmentbrandon.com/">Economic Development Brandon</a><br />\n<br />\nLunch is provided
LOCATION:Royal Oak Inn & Suites
UID:e.1595.38
SEQUENCE:3
DTSTAMP:20260421T165135Z
URL:https://dev.brandonchamber.ca/events/details/small-business-week-workshop-business-transition-the-ultimate-long-term-strategic-direction-10-25-2013-38
END:VEVENT

END:VCALENDAR
