BEGIN:VCALENDAR
VERSION:2.0
PRODID:-//ChamberMaster//Event Calendar 2.0//EN
METHOD:PUBLISH
X-PUBLISHED-TTL:P3D
REFRESH-INTERVAL:P3D
CALSCALE:GREGORIAN
BEGIN:VEVENT
DTSTART:20131030T140000Z
DTEND:20131030T173000Z
X-MICROSOFT-CDO-ALLDAYEVENT:FALSE
SUMMARY:Small Business Month: Panel Discussion: Effective Marketing Strategies that Grow Your Network Base
DESCRIPTION:This Panel Discussion will help you to understand\, expand and implement the latest in marketing strategies in 2013 for your business. From social media marketing to understanding your target market\; learn firsthand from industry professionals and get the inside scoop on what's next in marketing and what you can do today to help grow your business!\n\n	The Panelists: \n\n	Ja-On Hillman\, Owner\, Reactive Massage Therapy \n\n	Barry Cullen\, Owner\, Keywest Photo \n\n	Dr. Jay Winburn\, Owner\, Winburn Orthodontics & Prognition Corp.\n\n	LaVerne Guild\, Consultant\, Investors Group \n\n	Cam Clark\, General Manager\, 94.7 Star FM\n\n	Attend this panel discussion and have the opportunity to WIN a Samsung Galaxy Note 2.\n\n	Provide by Rogers Teleco.\n\n	\n\n	Hosted by:\n\n	Brandon Chamber of Commerce\n\n	Entrepreneurship Manitoba\n\n	Economic Development Brandon
X-ALT-DESC;FMTTYPE=text/html:<div style="color: gray\;">\n	This Panel Discussion will help you to&nbsp\;understand\, expand and implement the latest in marketing strategies in 2013 for your business. From social media marketing to understanding your target market\; learn firsthand from industry professionals and get the inside scoop on what&#39\;s next in marketing and what you can do today to help grow your business!</div>\n<p style="color: gray\;">\n	<strong>The Panelists: </strong></p>\n<p style="color: gray\;">\n	Ja-On Hillman\, Owner\, <a href="http://www.reactivemassage.com/" target="_blank">Reactive Massage Therapy</a>&nbsp\;<br />\n	Barry Cullen\, Owner\, <a href="http://www.keywestphoto.ca/" target="_blank">Keywest Photo</a>&nbsp\;<br />\n	Dr. Jay Winburn\, Owner\, <a href="http://www.winburnorthodontics.com/" target="_blank">Winburn Orthodontics </a>&amp\; Prognition Corp.<br />\n	LaVerne Guild\, Consultant\, <a href="http://www.investorsgroup.com/en/default.aspx" target="_blank">Investors Group</a>&nbsp\;<br />\n	Cam Clark\, General Manager\, <a href="http://www.starfm.ca/?starfm_home" target="_blank">94.7 Star FM</a></p>\n<p>\n	Attend this panel discussion and have the opportunity to <strong>WIN a Samsung Galaxy Note 2.</strong><br />\n	Provide by <a href="http://www.teleco.ca/" target="_blank">Rogers Teleco</a>.<br />\n	<br />\n	Hosted by:<br />\n	<a href="http://www.brandonchamber.ca">Brandon Chamber of Commerce</a><br />\n	<a href="http://www.manitoba.ca/business">Entrepreneurship Manitoba</a><br />\n	<a href="http://www.economicdevelopmentbrandon.com/">Economic Development Brandon</a></p>\n
LOCATION:Royal Oak Inn & Suites
UID:e.1595.56
SEQUENCE:3
DTSTAMP:20260421T165342Z
URL:https://dev.brandonchamber.ca/events/details/small-business-month-panel-discussion-effective-marketing-strategies-that-grow-your-network-base-10-30-2013-56
END:VEVENT

END:VCALENDAR
