BEGIN:VCALENDAR
VERSION:2.0
PRODID:-//ChamberMaster//Event Calendar 2.0//EN
METHOD:PUBLISH
X-PUBLISHED-TTL:P3D
REFRESH-INTERVAL:P3D
CALSCALE:GREGORIAN
BEGIN:VEVENT
DTSTART:20131010T140000Z
DTEND:20131010T173000Z
X-MICROSOFT-CDO-ALLDAYEVENT:FALSE
SUMMARY:Small Business Month: Making the Most of LinkedIn
DESCRIPTION:Join Mark Howe\, the Director of Client Relations at TDS Law as he shows you how to achieve successful results from a very powerful social media tool\, LinkedIn.\n\n\n\nLinkedIn is an important marketing and business development tool which can be an effective part of the overall marketing strategy for your business. This workshop will cover 15 best practices that are based on the presenter's personal experience of developing relationships and new business through LinkedIn.\nWhen it comes to business professionals\, there is probably no better social media tool than LinkedIn.  However\, in order to achieve successful results on LinkedIn\, it is critical to follow some best practices\, focus on where the real opportunity is and have a process to take action.  This workshop will cover 15 best practices that are based on the presenter's personal experience of successfully developing relationships and new business through LinkedIn.\n\nThis session will provide essential information to help you learn how to:\n\n\n	Target the right connections\n	Increase your chances of being found online and effectively position yourself on LinkedIn\n	Enhance your profile and credibility\n	Network virtually and create efficient ways to learn\n	Maintain key relationships\n	Selectively develop new relationships\n	Help others in your network make new contacts\n	Conduct market research\n	Adopt tactics to make the best use of your LinkedIn time\n\n\nWho Should Attend:\n\nBusiness owners or business professionals who want to expand their customer base and industry network.  All participants should have a basic familiarity with LinkedIn.  It is recommended that LinkedIn sign up is completed prior to workshop attendance.\n\n\n\nHosted by:\n\nBrandon Chamber of Commerce\n\nEntrepreneurship Manitoba\n\nEconomic Development Brandon
X-ALT-DESC;FMTTYPE=text/html:<div style="color: gray\;">Join&nbsp\;Mark Howe\, the Director of Client Relations at <a href="http://www.tdslaw.com/" target="_blank">TDS Law</a>&nbsp\;as he shows you how to achieve successful results from a very powerful social media tool\,&nbsp\;LinkedIn.<br />\n<br />\nLinkedIn is an important marketing and business development tool which can be an effective part of the overall marketing strategy for your business. This workshop will cover 15 best practices that are based on the presenter&#39\;s personal experience of developing relationships and new business through LinkedIn.\n<p>When it comes to business professionals\, there is probably no better social media tool than LinkedIn.&nbsp\; However\, in order to achieve successful results on LinkedIn\, it is critical to follow some best practices\, focus on where the real opportunity is and have a process to take action.&nbsp\; This workshop will cover 15 best practices that are based on the presenter&#39\;s personal experience of successfully developing relationships and new business through LinkedIn.</p>\n\n<p><strong>This session will provide essential information to help you learn how to:</strong></p>\n\n<ul>\n	<li>Target the right connections</li>\n	<li>Increase your chances of being found online and effectively position yourself on LinkedIn</li>\n	<li>Enhance your profile and credibility</li>\n	<li>Network virtually and create efficient ways to learn</li>\n	<li>Maintain key relationships</li>\n	<li>Selectively develop new relationships</li>\n	<li>Help others in your network make new contacts</li>\n	<li>Conduct market research</li>\n	<li>Adopt tactics to make the best use of your LinkedIn time</li>\n</ul>\n\n<p><strong>Who Should Attend:</strong></p>\n\n<p>Business owners or business professionals who want to expand their customer base and industry network.&nbsp\; All participants should have a basic familiarity with LinkedIn.&nbsp\; It is recommended that <a href="http://www.linkedin.com/" target="_blank">LinkedIn</a> sign up is completed prior to workshop attendance.<br />\n<br />\nHosted by:<br />\n<a href="http://www.brandonchamber.ca">Brandon Chamber of Commerce</a><br />\n<a href="http://www.manitoba.ca/business">Entrepreneurship Manitoba</a><br />\n<a href="http://www.economicdevelopmentbrandon.com/">Economic Development Brandon</a></p>\n</div>\n
LOCATION:Royal Oak Inn & Suites
UID:e.1595.53
SEQUENCE:3
DTSTAMP:20260421T165219Z
URL:https://dev.brandonchamber.ca/events/details/small-business-month-making-the-most-of-linkedin-10-10-2013-53
END:VEVENT

END:VCALENDAR
