BEGIN:VCALENDAR
VERSION:2.0
PRODID:-//ChamberMaster//Event Calendar 2.0//EN
METHOD:PUBLISH
X-PUBLISHED-TTL:P3D
REFRESH-INTERVAL:P3D
CALSCALE:GREGORIAN
BEGIN:VEVENT
DTSTART:20141115T000000Z
DTEND:20141115T003000Z
X-MICROSOFT-CDO-ALLDAYEVENT:FALSE
SUMMARY:Santa's Arrival
DESCRIPTION:Welcome Santa to Shoppers Mall\n\nIt's the most magical time of year and Santa will be welcomed to Kia Court with some extra surprises this year! Be the first to see Santa is his new display and take a moment to celebrate the happiest time of year in our kids interactive area located in front of Scotiabank. \n\nSanta will arrive at 6:00 pm and photos in Kia Court will follow until 8:00 pm. \n\nThe first 500 kids to visit Santa on this evening will receive a special surprise!
X-ALT-DESC;FMTTYPE=text/html:Welcome Santa to Shoppers Mall<br />\nIt&#39\;s the most magical time of year and Santa will be welcomed to Kia Court with some extra surprises this year! Be the first to see Santa is his new display and take a moment to celebrate the happiest time of year in our kids interactive area located in front of Scotiabank.&nbsp\;<br />\nSanta will arrive at 6:00 pm and photos in Kia Court will follow until 8:00 pm.&nbsp\;<br />\nThe first 500 kids to visit Santa on this evening will receive a special surprise!
LOCATION:Shoppers Mall 1570 18th St. Brandon\, MB R7A 5C5
UID:e.1595.161
SEQUENCE:3
DTSTAMP:20260421T013747Z
URL:https://dev.brandonchamber.ca/events/details/santa-s-arrival-11-14-2014-161
END:VEVENT

END:VCALENDAR
