BEGIN:VCALENDAR
VERSION:2.0
PRODID:-//ChamberMaster//Event Calendar 2.0//EN
METHOD:PUBLISH
X-PUBLISHED-TTL:P3D
REFRESH-INTERVAL:P3D
CALSCALE:GREGORIAN
BEGIN:VEVENT
DTSTART:20141031T210000Z
DTEND:20141031T230000Z
X-MICROSOFT-CDO-ALLDAYEVENT:FALSE
SUMMARY:Safe Indoor Trick or Treating
DESCRIPTION:Children of all ages are welcome to trick or treat at participating stores on Friday October 31 from 4:00 pm to 6:00 pm. \n\nLook for the "Welcome" sign in store windows to identify which stores are participating in this spooktacular event!
X-ALT-DESC;FMTTYPE=text/html:Children of all ages are welcome to trick or treat at participating stores on Friday October 31 from 4:00 pm to 6:00 pm.&nbsp\;<br />\nLook for the &quot\;Welcome&quot\; sign in store windows to identify which stores are participating in this spooktacular event!
LOCATION:Shoppers Mall 1570 18th St. Brandon\, MB R7A 5C5
UID:e.1595.160
SEQUENCE:3
DTSTAMP:20260421T031215Z
URL:https://dev.brandonchamber.ca/events/details/safe-indoor-trick-or-treating-10-31-2014-160
END:VEVENT

END:VCALENDAR
