BEGIN:VCALENDAR
VERSION:2.0
PRODID:-//ChamberMaster//Event Calendar 2.0//EN
METHOD:PUBLISH
X-PUBLISHED-TTL:P3D
REFRESH-INTERVAL:P3D
CALSCALE:GREGORIAN
BEGIN:VEVENT
DTSTART:20160607T200000Z
DTEND:20160608T003000Z
X-MICROSOFT-CDO-ALLDAYEVENT:FALSE
SUMMARY:Riverbank Summer Kick-Off
DESCRIPTION:On Tuesday\, June 7th\, the Riverbank Discovery Centre is the place to be in Brandon!  We have rolled three great events into one\, including our Annual Spring Cleanup (featuring a Volunteer Appreciation BBQ)\, our Annual General Meeting and our Master Plan Open House!\n\nFrom 3:00-7:00 p.m. come and see the re-development plans for the Assiniboine River Corridor over the next 20 years.  Ask questions and share your opinion!  \n\n\n\nFormal presentation as well as Annual General Meeting to take place at 7:00 p.m.\n\n\n\nAfter you have taken in the Master Plan Open House\, be part of our Spring Cleanup starting at 4:30 p.m.!  We will be picking up garbage as well as doing spring gardening throughout the Riverbank Discovery Centre grounds and surrounding areas.  When you're done getting your hands dirty\, enjoy a Volunteer Appreciation BBQ!\n\n\n\nEveryone is invited to join us for one or all of these great events\, and help kick off summer at the Riverbank Discovery Centre!
X-ALT-DESC;FMTTYPE=text/html:On Tuesday\, June 7th\, the Riverbank Discovery Centre is the place to be in Brandon! &nbsp\;We have rolled three great events into one\, including our Annual Spring Cleanup (featuring a Volunteer Appreciation BBQ)\, our Annual General Meeting and our Master Plan Open House!<br />\nFrom 3:00-7:00 p.m. come and see the re-development plans for the Assiniboine River Corridor over the next 20 years. &nbsp\;Ask questions and share your opinion! &nbsp\;<br />\n<br />\nFormal presentation as well as Annual General Meeting to take place at 7:00 p.m.<br />\n<br />\nAfter you have taken in the Master Plan Open House\, be part of our Spring Cleanup starting at 4:30 p.m.! &nbsp\;We will be picking up garbage as well as doing spring gardening throughout the Riverbank Discovery Centre grounds and surrounding areas. &nbsp\;When you&#39\;re done getting your hands dirty\, enjoy a Volunteer Appreciation BBQ!<br />\n<br />\nEveryone is invited to join us for one or all of these great events\, and help kick off summer at the Riverbank Discovery Centre!<br />\n&nbsp\;
LOCATION:Riverbank Discovery Centre
UID:e.1595.478
SEQUENCE:3
DTSTAMP:20260419T131000Z
URL:https://dev.brandonchamber.ca/events/details/riverbank-summer-kick-off-06-07-2016-478
END:VEVENT

END:VCALENDAR
