BEGIN:VCALENDAR
VERSION:2.0
PRODID:-//ChamberMaster//Event Calendar 2.0//EN
METHOD:PUBLISH
X-PUBLISHED-TTL:P3D
REFRESH-INTERVAL:P3D
CALSCALE:GREGORIAN
BEGIN:VEVENT
DTSTART:20151121T160000Z
DTEND:20151121T220000Z
X-MICROSOFT-CDO-ALLDAYEVENT:FALSE
SUMMARY:Riverbank Christmas Craft Sale
DESCRIPTION:Come and explore the Annual Riverbank Christmas Craft sale!\n\n\n\nHere you will find a variety of handmade products by local artisans\, alpaca products\, home d cor\, jewelry and much more!\n\n\n\nGet a head start on your Christmas shopping\, and find some great stocking stuffers and gifts for everyone on your list!\n\n\n\nAdmission is FREE!!
X-ALT-DESC;FMTTYPE=text/html:<div style="text-align: center\;">Come and explore the Annual Riverbank Christmas Craft sale!<br />\n<br />\nHere you will find a variety of handmade products by local artisans\, alpaca products\, home d&eacute\;cor\, jewelry and much more!<br />\n<br />\nGet a head start on your Christmas shopping\, and find some great stocking stuffers and gifts for everyone on your list!<br />\n<br />\nAdmission is FREE!!</div>\n
LOCATION:Riverbank Discovery Centre\, #1-545 Conservation Drive\, Brandon
UID:e.1595.398
SEQUENCE:3
DTSTAMP:20260419T222821Z
URL:https://dev.brandonchamber.ca/events/details/riverbank-christmas-craft-sale-11-21-2015-398
END:VEVENT

END:VCALENDAR
