BEGIN:VCALENDAR
VERSION:2.0
PRODID:-//ChamberMaster//Event Calendar 2.0//EN
METHOD:PUBLISH
X-PUBLISHED-TTL:P3D
REFRESH-INTERVAL:P3D
CALSCALE:GREGORIAN
BEGIN:VEVENT
DTSTART:20160408T230000Z
DTEND:20160409T000000Z
X-MICROSOFT-CDO-ALLDAYEVENT:FALSE
SUMMARY:Provincial Election Candidate Meet & Greet
DESCRIPTION:I will make an informed decision. Shake hands\, ask questions and introduce yourself to the Manitoba Provincial Election Candidates from Brandon East and Brandon West.\n\nCandidates who have confirmed their participation:\n\n\n	Reg Helwer\, Progressive Conservative   Brandon West\n	Len Isleifson\, Progressive Conservative   Brandon East\n	Linda Ross\, NDP   Brandon West\n	Drew Caldwell\, NDP   Brandon East\n	Billy Moore\, Liberal   Brandon West
X-ALT-DESC;FMTTYPE=text/html:<p>I will make an informed decision. Shake hands\, ask questions and introduce yourself to the Manitoba Provincial Election Candidates from Brandon East and Brandon West.</p>\n\n<p>Candidates who have confirmed their participation:</p>\n\n<ul>\n	<li>Reg Helwer\, Progressive Conservative &ndash\; Brandon West</li>\n	<li>Len Isleifson\, Progressive Conservative &ndash\; Brandon East</li>\n	<li>Linda Ross\, NDP &ndash\; Brandon West</li>\n	<li>Drew Caldwell\, NDP &ndash\; Brandon East</li>\n	<li>Billy Moore\, Liberal &ndash\; Brandon West</li>\n</ul>\n
LOCATION:Shoppers Mall
UID:e.1595.424
SEQUENCE:3
DTSTAMP:20260419T165732Z
URL:https://dev.brandonchamber.ca/events/details/provincial-election-candidate-meet-greet-04-08-2016-424
END:VEVENT

END:VCALENDAR
