BEGIN:VCALENDAR
VERSION:2.0
PRODID:-//ChamberMaster//Event Calendar 2.0//EN
METHOD:PUBLISH
X-PUBLISHED-TTL:P3D
REFRESH-INTERVAL:P3D
CALSCALE:GREGORIAN
BEGIN:VEVENT
DTSTART:20150930T163000Z
DTEND:20150930T183000Z
X-MICROSOFT-CDO-ALLDAYEVENT:FALSE
SUMMARY:Power Smart Commercial Outdoor Lighting Session
DESCRIPTION:Commercial Lighting Incentives: Manitoba Hydro's Power Smart Commercial Lighting Program will host a free lunch & learn at the Victoria Inn Brandon on September 30\, from 11:30 a.m. to 1:30 p.m.  Learn the performance\, maintenance\, financial\, and safety benefits of upgrading exterior lighting to LED.  RSVP by September 23 to 204-360-4061 or tvexzon@hydro.mb.ca.
X-ALT-DESC;FMTTYPE=text/html:<p>Commercial Lighting Incentives: Manitoba Hydro&rsquo\;s <a href="http://www.hydro.mb.ca/your_business/lighting/">Power Smart Commercial Lighting Program</a><span style="color: rgb(31\, 73\, 125)\;"> </span>will host a free lunch &amp\; learn at the Victoria Inn Brandon on September 30\, from 11:30 a.m. to 1:30 p.m.&nbsp\; Learn the performance\, maintenance\, <a href="https://www.hydro.mb.ca/your_business/lighting/incentives.shtml">financial</a>\, and safety benefits of upgrading exterior lighting to LED.&nbsp\; RSVP by September 23 to 204-360-4061 or <a href="mailto:tvexzon@hydro.mb.ca">tvexzon@hydro.mb.ca</a>.</p>\n
LOCATION:Victoria Inn
UID:e.1595.330
SEQUENCE:3
DTSTAMP:20260420T010517Z
URL:https://dev.brandonchamber.ca/events/details/power-smart-commercial-outdoor-lighting-session-09-30-2015-330
END:VEVENT

END:VCALENDAR
