BEGIN:VCALENDAR
VERSION:2.0
PRODID:-//ChamberMaster//Event Calendar 2.0//EN
METHOD:PUBLISH
X-PUBLISHED-TTL:P3D
REFRESH-INTERVAL:P3D
CALSCALE:GREGORIAN
BEGIN:VEVENT
DTSTART:20140603T133000Z
DTEND:20140604T223000Z
X-MICROSOFT-CDO-ALLDAYEVENT:FALSE
SUMMARY:Personify Leadership
DESCRIPTION:Personify Leadership is an engaging\, high-intensity program that provides comprehensive development for leaders in eight core competencies. Our expert facilitator will deepen your understanding of what it takes to be a leader\, and help you develop skills for leading your workforce more effectively. This fun and interactive two-day program includes experiential simulations\, video demos\, case studies\, skills application and personal reflection.\n\n\n\nRegistration includes:\n\n	2 full days of classroom learning\n	Coffee breaks and lunches\n	Participant Activity Kit\n	DiSC Assessment Report\n	Coaching guides and measurement tools\n\nPersonify Leadership is on the most comprehensive development programs on the market today. It's designed specifically for frontline to mid levels of leadership.
X-ALT-DESC;FMTTYPE=text/html:Personify Leadership is an engaging\, high-intensity program that provides comprehensive development for leaders in eight core competencies. Our expert facilitator will deepen your understanding of what it takes to be a leader\, and help you develop skills for leading your workforce more effectively. This fun and interactive two-day program includes experiential simulations\, video demos\, case studies\, skills application and personal reflection.<br />\n<br />\nRegistration includes:\n<ul>\n	<li>2 full days of classroom learning</li>\n	<li>Coffee breaks and lunches</li>\n	<li>Participant Activity Kit</li>\n	<li>DiSC Assessment Report</li>\n	<li>Coaching guides and measurement tools</li>\n</ul>\nPersonify Leadership is on the most comprehensive development programs on the market today. It&#39\;s designed specifically for frontline to mid levels of leadership.
LOCATION:ACC North Hill Campus - Manitoba Institute of Culinary Arts
UID:e.1595.93
SEQUENCE:3
DTSTAMP:20260421T053620Z
URL:https://dev.brandonchamber.ca/events/details/personify-leadership-06-03-2014-93
END:VEVENT

END:VCALENDAR
