BEGIN:VCALENDAR
VERSION:2.0
PRODID:-//ChamberMaster//Event Calendar 2.0//EN
METHOD:PUBLISH
X-PUBLISHED-TTL:P3D
REFRESH-INTERVAL:P3D
CALSCALE:GREGORIAN
BEGIN:VEVENT
DTSTART:20150920T150000Z
DTEND:20150920T230000Z
X-MICROSOFT-CDO-ALLDAYEVENT:FALSE
SUMMARY:Open Farm Day
DESCRIPTION:Building Up\, principal owner Wendy Bulloch has recently been awarded the coordination and delivery of Open Farm Day from Manitoba Association of Agricultural Societies (MAAS).  MAAS in partnership with Manitoba Agriculture Food and Rural Development (MAFRD) will assume coordination of Open Farm Day for the next three years. \n\nPlan to take part in Open Farm Day and visit the 35+ farms and agriculture sites in the province. \n\nFor further information on Open Farm Day\, including listing\, maps and times to visit please go to www.openfarmday.ca or Open Farm Day MB Facebook page.
X-ALT-DESC;FMTTYPE=text/html:Building Up\, principal owner Wendy Bulloch has recently been awarded the coordination and delivery of Open Farm Day from Manitoba Association of Agricultural Societies (MAAS).&nbsp\; MAAS in partnership with Manitoba Agriculture Food and Rural Development (MAFRD) will assume coordination of Open Farm Day for the next three years.&nbsp\;<br />\nPlan to take part in Open Farm Day and visit the 35+ farms and agriculture sites in the province.&nbsp\;<br />\nFor further information on Open Farm Day\, including listing\, maps and times to visit&nbsp\;please go to <a href="http://www.openfarmday.ca">www.openfarmday.ca</a> or Open Farm Day MB Facebook page.&nbsp\;<br />\n<br />\n&nbsp\;
LOCATION:Across Manitoba
UID:e.1595.339
SEQUENCE:3
DTSTAMP:20260420T010300Z
URL:https://dev.brandonchamber.ca/events/details/open-farm-day-09-20-2015-339
END:VEVENT

END:VCALENDAR
