BEGIN:VCALENDAR
VERSION:2.0
PRODID:-//ChamberMaster//Event Calendar 2.0//EN
METHOD:PUBLISH
X-PUBLISHED-TTL:P3D
REFRESH-INTERVAL:P3D
CALSCALE:GREGORIAN
BEGIN:VEVENT
DTSTART:20160504T230000Z
DTEND:20160505T180000Z
X-MICROSOFT-CDO-ALLDAYEVENT:FALSE
SUMMARY:Niche It Up: Enhance Your Marketing Effectiveness
DESCRIPTION:The Brandon Chamber of Commerce presents a workshop put on by Manitoba Marketing Network:\n\n\n\nEnhance your marketing effectiveness with this two-day workshop.\n\nSessions are facilitated by marketing experts and presentation are followed by group round table discussions. Each session builds on the previous session\, but is not a pre-requisite to attend all sessions.\n\n \nDAY ONE\n\nWhat am I selling and Who am I Selling to?\n 6:00 - 7:30 pm\, Wednesday May 4\n\nWhat are you selling: expertise\, uniqueness\, benefits specialty\, etc.?\n\nWho are you selling to: primary and secondary markets?\n\nWhat is your customer value proposition?\n\n \nFocus\, Aim Promote...\n8:00 - 9:30 pm\, Wednesday\, May 4\n\nWhat is your promotional strategy: trial offers\, demonstrations\, referrals\, networking\, etc.?\n\nwhat are your advertising platforms: internet\, radio\, flyer\, etc.?\n\nWhat is your advertising budget?\n\n \nDAY TWO\n\nThe Cure for Buyer's Remorse - Panel Discussion\n9:30 - 11:00 am\, Thursday\, May 5\n\nWhat are your service standards?\n\nHow will you achieve these service standards with roles\, tasks\, etc.?\n\nHow will you eliminate the rsik of failing to meet your service standards?\n\n \nPut it to Work! A Networking Luncheon\n11:30 am - 1:00 pm\, Thursday\, May 5\n\nParticipants will learn networking strategies and pitch their new value proposition and work class service strategies with fellow workshop participants comprised of entrepreneurs adn sales executives.\n\n\n\nSponsored by: Economic Development Brandon\, Entrepreneurship Manitoba\, CKLQ & StarFM\, Leech Printing
X-ALT-DESC;FMTTYPE=text/html:The Brandon Chamber of Commerce presents a workshop put on by Manitoba Marketing Network:<br />\n<br />\nEnhance your marketing effectiveness with this two-day workshop.<br />\nSessions are facilitated by marketing experts and presentation are followed by group round table discussions. Each session builds on the previous session\, but is not a pre-requisite to attend all sessions.<br />\n&nbsp\;\n<h3><u><strong>DAY ONE</strong></u></h3>\n\n<h3>What am I selling and Who am I Selling to?</h3>\n&nbsp\;6:00 - 7:30 pm\, Wednesday May 4<br />\nWhat are you selling: expertise\, uniqueness\, benefits specialty\, etc.?<br />\nWho are you selling to: primary and secondary markets?<br />\nWhat is your customer value proposition?<br />\n&nbsp\;\n<h3>Focus\, Aim Promote...</h3>\n8:00 - 9:30 pm\, Wednesday\, May 4<br />\nWhat is your promotional strategy: trial offers\, demonstrations\, referrals\, networking\, etc.?<br />\nwhat are your advertising platforms: internet\, radio\, flyer\, etc.?<br />\nWhat is your advertising budget?<br />\n&nbsp\;\n<h3><u><strong>DAY TWO</strong></u></h3>\n\n<h3>The Cure for Buyer&#39\;s Remorse - Panel Discussion</h3>\n9:30 - 11:00 am\, Thursday\, May 5<br />\nWhat are your service standards?<br />\nHow will you achieve these service standards with roles\, tasks\, etc.?<br />\nHow will you eliminate the rsik of failing to meet your service standards?<br />\n&nbsp\;\n<h3>Put it to Work! A Networking Luncheon</h3>\n11:30 am - 1:00 pm\, Thursday\, May 5<br />\nParticipants will learn networking strategies and pitch their new value proposition and work class service strategies with fellow workshop participants comprised of entrepreneurs adn sales executives.<br />\n<br />\nSponsored by: Economic Development Brandon\, Entrepreneurship Manitoba\, CKLQ &amp\; StarFM\, Leech Printing
LOCATION:Royal Oak Inn & Suites 3130 Victoria Avenue
UID:e.1595.428
SEQUENCE:3
DTSTAMP:20260419T144341Z
URL:https://dev.brandonchamber.ca/events/details/niche-it-up-enhance-your-marketing-effectiveness-05-04-2016-428
END:VEVENT

END:VCALENDAR
