BEGIN:VCALENDAR
VERSION:2.0
PRODID:-//ChamberMaster//Event Calendar 2.0//EN
METHOD:PUBLISH
X-PUBLISHED-TTL:P3D
REFRESH-INTERVAL:P3D
CALSCALE:GREGORIAN
BEGIN:VEVENT
DTSTART:20160515T163000Z
DTEND:20160515T200000Z
X-MICROSOFT-CDO-ALLDAYEVENT:FALSE
SUMMARY:MS Walk Westman
DESCRIPTION:MS Walk Westman\n\nSunday May 15th\, 2016\n\nVictoria Inn - Imperial Ballroom\n\nRegistration \, BBQ\, Entertainment - 11:30am\n\nWalk starts at 1pm\n\nYou can Register at www.mswalks.ca or call our local office at 204-571-5670
X-ALT-DESC;FMTTYPE=text/html:<div style="text-align: center\;"><span style="font-size: 18px\;"><strong>MS Walk Westman</strong></span><br />\n<strong>Sunday May 15th\, 2016<br />\nVictoria Inn - Imperial Ballroom</strong><br />\nRegistration \, BBQ\, Entertainment&nbsp\;- 11:30am<br />\nWalk starts at 1pm<br />\nYou can Register at <a href="http://www.mswalks.ca">www.mswalks.ca</a> or call our local office at 204-571-5670</div>\n
LOCATION:Victoria Inn - Imperial Ballroom
UID:e.1595.437
SEQUENCE:3
DTSTAMP:20260419T143051Z
URL:https://dev.brandonchamber.ca/events/details/ms-walk-westman-05-15-2016-437
END:VEVENT

END:VCALENDAR
