BEGIN:VCALENDAR
VERSION:2.0
PRODID:-//ChamberMaster//Event Calendar 2.0//EN
METHOD:PUBLISH
X-PUBLISHED-TTL:P3D
REFRESH-INTERVAL:P3D
CALSCALE:GREGORIAN
BEGIN:VEVENT
DTSTART:20131126T163000Z
DTEND:20131126T180000Z
X-MICROSOFT-CDO-ALLDAYEVENT:FALSE
SUMMARY:Meet and Greet Coffee with the US Consulate
DESCRIPTION:Join the Brandon Chamber of Commerce and the American Society of Western Manitoba as we greet Tim Cipullo from the US Consulate from Winnipeg.
X-ALT-DESC;FMTTYPE=text/html:Join the Brandon Chamber of Commerce and the American&nbsp\;Society of Western Manitoba&nbsp\;as we greet&nbsp\;Tim Cipullo&nbsp\;from the US Consulate&nbsp\;from Winnipeg.
LOCATION:Brandon Chamber of Commerce 1043 Rosser Ave
UID:e.1595.69
SEQUENCE:3
DTSTAMP:20260421T152318Z
URL:https://dev.brandonchamber.ca/events/details/meet-and-greet-coffee-with-the-us-consulate-11-26-2013-69
END:VEVENT

END:VCALENDAR
