BEGIN:VCALENDAR
VERSION:2.0
PRODID:-//ChamberMaster//Event Calendar 2.0//EN
METHOD:PUBLISH
X-PUBLISHED-TTL:P3D
REFRESH-INTERVAL:P3D
CALSCALE:GREGORIAN
BEGIN:VEVENT
DTSTART:20140612T150000Z
DTEND:20140612T230000Z
X-MICROSOFT-CDO-ALLDAYEVENT:FALSE
SUMMARY:MEDIchair Brandon Open House
DESCRIPTION:BRANDON'S Premier event for: \n\nPersons with disabilities\, Seniors with special needs\, Professionals working in related areas\, Purchasers\, Funding agencies.\n\n\n\nMEDIchair  the home medical equipment specialists
X-ALT-DESC;FMTTYPE=text/html:BRANDON&#39\;S Premier event for:&nbsp\;<br />\nPersons with disabilities\, Seniors with special needs\, Professionals working in related areas\, Purchasers\, Funding agencies.<br />\n<br />\nMEDIchair &nbsp\;the home medical equipment specialists
LOCATION:425 Pacific Ave Brandon Mb.
UID:e.1595.98
SEQUENCE:3
DTSTAMP:20260421T082739Z
URL:https://dev.brandonchamber.ca/events/details/medichair-brandon-open-house-06-12-2014-98
END:VEVENT

END:VCALENDAR
