BEGIN:VCALENDAR
VERSION:2.0
PRODID:-//ChamberMaster//Event Calendar 2.0//EN
METHOD:PUBLISH
X-PUBLISHED-TTL:P3D
REFRESH-INTERVAL:P3D
CALSCALE:GREGORIAN
BEGIN:VEVENT
DTSTART:20130516T160000Z
DTEND:20130516T180000Z
X-MICROSOFT-CDO-ALLDAYEVENT:FALSE
SUMMARY:May - State of the City Luncheon
DESCRIPTION:Join us to hear from Mayor Shari Decter Hirst as she gives her State of the City Address.
X-ALT-DESC;FMTTYPE=text/html:Join us to hear from Mayor Shari Decter Hirst as she gives her State of the City Address. 
LOCATION:Keystone Centre - UCT Pavilion
UID:e.1595.13
SEQUENCE:3
DTSTAMP:20260421T233846Z
URL:https://dev.brandonchamber.ca/events/details/may-state-of-the-city-luncheon-05-16-2013-13
END:VEVENT

END:VCALENDAR
