BEGIN:VCALENDAR
VERSION:2.0
PRODID:-//ChamberMaster//Event Calendar 2.0//EN
METHOD:PUBLISH
X-PUBLISHED-TTL:P3D
REFRESH-INTERVAL:P3D
CALSCALE:GREGORIAN
BEGIN:VEVENT
DTSTART:20150312T133000Z
DTEND:20150312T160000Z
X-MICROSOFT-CDO-ALLDAYEVENT:FALSE
SUMMARY:Marketing Seminar - Winning in the New Media Economy
DESCRIPTION:Join us for a completely new advertiser seminar designed to help you capture the opportunities that exist in the face of adversity.\n\n\n\nYour seminar facilitator\, Wayne Ens\, has helped hundreds of businesses improve their bottom lines in the toughest of times\n\n\n\n"Winning in the New Media Economy" advertiser seminar is designed to help you capture the opportunities that exist in the face of diversity\n\n\n\nParticipants will learn:\n\n* The business basics litmus test\n\n* The new media and traditional media mix\n\n* How to succeed without discounting\n\n* The roles of intrusive media versus passive media\n\n* The keys to unlocking advertising ROI\n\n* The Share of Market formula\n\n* How your customers define 'value'\n\n\n\nPresented by:\n\nLeech Printing\n\nKeystone Centre\n\nRBC Royal Bank\n\nBrandon Chamber of Commerce\n\nCKLQ  880 / STARFM 94.7
X-ALT-DESC;FMTTYPE=text/html:Join us for a completely new advertiser seminar designed to help you capture the opportunities that exist in the face of adversity.<br />\n<br />\nYour seminar facilitator\, Wayne Ens\, has helped hundreds of businesses improve their bottom lines in the toughest of times<br />\n<br />\n&quot\;<strong><u>Winning in the New Media Economy</u></strong>&quot\; advertiser seminar is designed to help you capture the opportunities that exist in the face of diversity<br />\n<br />\nParticipants will learn:<br />\n* The business basics litmus test<br />\n* The new media and traditional media mix<br />\n* How to succeed without discounting<br />\n* The roles of intrusive media versus passive media<br />\n* The keys to unlocking advertising ROI<br />\n* The Share of Market formula<br />\n* How your customers define &#39\;value&#39\;<br />\n<br />\nPresented by:<br />\nLeech Printing<br />\nKeystone Centre<br />\nRBC Royal Bank<br />\nBrandon Chamber of Commerce<br />\nCKLQ&nbsp\; 880 / STARFM 94.7<br />\n&nbsp\;
LOCATION:Keystone Centre - Salon A
UID:e.1595.258
SEQUENCE:3
DTSTAMP:20260422T085341Z
URL:https://dev.brandonchamber.ca/events/details/marketing-seminar-winning-in-the-new-media-economy-03-12-2015-258
END:VEVENT

END:VCALENDAR
