BEGIN:VCALENDAR
VERSION:2.0
PRODID:-//ChamberMaster//Event Calendar 2.0//EN
METHOD:PUBLISH
X-PUBLISHED-TTL:P3D
REFRESH-INTERVAL:P3D
CALSCALE:GREGORIAN
BEGIN:VEVENT
DTSTART:20140226T143000Z
DTEND:20140226T220000Z
X-MICROSOFT-CDO-ALLDAYEVENT:FALSE
SUMMARY:Manitoba to Montana: Business Opportunities in the Bakken
DESCRIPTION:Join us for a one day conference presented in partnership with the Montana World Trade Centre\, World Trade Centre Winnipeg and the Manitoba Chamber of Commerce.\n\n\n\nManitoba to Montana: Business Opportunities in the Bakkenday seminar designed specifically to help Manitoba companies launch successful business efforts in the region.\n\n\n\nConfirmed  Speakers include:\n\n Dan McLean\, CEO & President of Tundra Oil & Gas Ltd - Keynote Speaker\n\n\n\n Mark Salkeld\, President and CEO of Petroleum Services Association of Canada\n\n\n\n Dave Brown\, Vice President\, Communication and Marketing of Trican Well Service\n\n\n\n Keith Lowdon\, Director\, Petroleum Branch\, Manitoba Innovaiton\, Energy and Mines\n\n Arnie Sherman\, Executive Director of the Montana World Trade Centre\n\n Brian Schweitzer\, Former Montana Governor\, Chairman of the Board\, Stillwater Mines (via satellite link)\n\n More to come...\n\n\n\nFor full Conference details click here\n\n\n\nSponsorship Opportunities click here\n\n\n\nFor Sponsorship opportunities please contact Allison Reville 204.571.5344 or external@brandonchamber.ca\n\n\n\n For non member registration contact the Chamber office at (204) 571-5340 or email internal@brandonchamber.ca
X-ALT-DESC;FMTTYPE=text/html:<p>Join us for a one day conference presented in partnership with the Montana World Trade Centre\, World Trade Centre Winnipeg and the Manitoba Chamber of Commerce.<br />\n<br />\nManitoba to Montana: Business Opportunities in the Bakkenday seminar designed specifically to help&nbsp\;Manitoba companies launch successful business efforts in the region.<br />\n<br />\n<u>Confirmed&nbsp\;&nbsp\;Speakers include:</u><br />\n&gt\;Dan McLean\, CEO &amp\; President of Tundra Oil &amp\; Gas Ltd - Keynote Speaker<br />\n<br />\n&gt\;Mark Salkeld\, President and CEO of Petroleum Services Association of Canada<br />\n<br />\n&gt\;Dave Brown\, Vice President\, Communication and Marketing of Trican Well Service<br />\n<br />\n&gt\;Keith Lowdon\, Director\, Petroleum Branch\, Manitoba Innovaiton\, Energy and Mines</p>\n\n<p>&gt\;Arnie Sherman\, Executive Director of the Montana World Trade Centre</p>\n\n<p>&gt\;Brian Schweitzer\, Former Montana Governor\, Chairman of the Board\, Stillwater Mines&nbsp\;(via satellite link)</p>\n\n<p>&gt\;More to come...</p>\n\n<p><br />\nFor full Conference details click <strong><a href="http://www.brandonchamber.ca/wp-content/uploads/2014/01/Brandon-Bakken-Promotion.pdf">here</a></strong><br />\n<br />\nSponsorship Opportunities click <strong><a href="http://www.brandonchamber.ca/wp-content/uploads/2014/01/Brandon-Bakken-Sponsorship.pdf">here</a></strong><br />\n<br />\n<strong>For Sponsorship opportunities please contact Allison Reville 204.571.5344 or external@brandonchamber.ca<br />\n<br />\n<span style="display: none\;">&nbsp\;</span><u>For non member registration contact the Chamber office at (204) 571-5340 or&nbsp\;email internal@brandonchamber.ca</u><br />\n<span style="display: none\;">&nbsp\;</span></strong></p>\n\n<div id="cke_pastebin" style="left: -1000px\; top: 446.11px\; width: 1px\; height: 1px\; overflow: hidden\; position: absolute\;">&nbsp\;</div>\n
LOCATION:Keystone Centre UCT Pavillion
UID:e.1595.72
SEQUENCE:3
DTSTAMP:20260421T111221Z
URL:https://dev.brandonchamber.ca/events/details/manitoba-to-montana-business-opportunities-in-the-bakken-02-26-2014-72
END:VEVENT

END:VCALENDAR
