BEGIN:VCALENDAR
VERSION:2.0
PRODID:-//ChamberMaster//Event Calendar 2.0//EN
METHOD:PUBLISH
X-PUBLISHED-TTL:P3D
REFRESH-INTERVAL:P3D
CALSCALE:GREGORIAN
BEGIN:VEVENT
DTSTART:20141104T190000Z
DTEND:20141104T210000Z
X-MICROSOFT-CDO-ALLDAYEVENT:FALSE
SUMMARY:Manitoba?s Career & Workforce Development Month
DESCRIPTION:November is Manitoba's Career & Workforce Development Month! It is also the 70th Anniversary of Apprenticeship Manitoba! To celebrate\, please join us at Brandon's Manitoba Jobs & Skills Development Centre 127-340 9th Street Brandon. We will have Trade Ambassadors on hand to answer any questions you may have about Apprenticeship Manitoba. We will also have Career Development Consultants\, Labour Market Service Advisors\, an Apprenticeship Training Coordinator and a Workforce Development Consultant to answer any of your career questions! Whether you are a student\, an employer\, a job seeker or just looking for a change in career come down to our office on Tuesday November 4th from 1-3 pm for refreshments and conversation.
X-ALT-DESC;FMTTYPE=text/html:November is Manitoba&#39\;s Career &amp\; Workforce Development Month! It is also the 70th Anniversary of Apprenticeship Manitoba! To celebrate\, please join us at Brandon&#39\;s Manitoba Jobs &amp\; Skills Development Centre 127-340 9th Street Brandon. We will have Trade Ambassadors on hand to answer any questions you may have about Apprenticeship Manitoba. We will also have Career Development Consultants\, Labour Market Service Advisors\, an Apprenticeship Training Coordinator and a Workforce Development Consultant to answer any of your career questions! Whether you are a student\, an employer\, a job seeker or just looking for a change in career come down to our office on Tuesday November 4th from 1-3 pm for refreshments and conversation.
LOCATION:Manitoba Jobs & Skills Development Centre 127-340 9th Street Brandon (Provincial Building - Main Floor)
UID:e.1595.170
SEQUENCE:3
DTSTAMP:20260421T013803Z
URL:https://dev.brandonchamber.ca/events/details/manitoba-s-career-workforce-development-month-11-04-2014-170
END:VEVENT

END:VCALENDAR
