BEGIN:VCALENDAR
VERSION:2.0
PRODID:-//ChamberMaster//Event Calendar 2.0//EN
METHOD:PUBLISH
X-PUBLISHED-TTL:P3D
REFRESH-INTERVAL:P3D
CALSCALE:GREGORIAN
BEGIN:VEVENT
DTSTART:20150501T233000Z
DTEND:20150503T164500Z
X-MICROSOFT-CDO-ALLDAYEVENT:FALSE
SUMMARY:Manitoba Chambers of Commerce AGM
DESCRIPTION:The AGM is filled with networking opportunities\, best practice sessions for business\, and speaker sessions centered on the issues facing Manitoba business. The meeting wraps up with a policy debate that allows our members to set forth MCC's advocacy direction. With the political landscape changing over the next year\, there is even more focus on ensuring a strong policy and advocacy agenda. The full agenda can be found here. \n\n\n\nThe AGM agenda for this year is focused on providing members and local chambers with speaker sessions centered on the issues facing Manitoba business. This year there are sessions dedicated to workforce\, rural economic development\, economic competitiveness and a political pundits session. The speakers list includes:\n\n\n	Sue Barkman\, CEO\, Skills Connect\n	Michael McMullen\, Chair\, Canadian Chamber of Commerce\n	Greg Dandewich\, Senior Vice President Economic Development Winnipeg\n	Curtis Brown\, Probe Research\n	and more\n\n\n\nShowcase your business to Manitoba: sponsorship opportunities can be viewed here. AGM Sponsors support the growth of business development and economic change within the province. \n\n \nFRIDAY RECEPTION\n\nYour Chamber Events Committee has been planning a special treat\, as we host the welcoming reception at the Manitoba Institute of Culinary Arts located at ACC?s North Hill Campus. Think of the event similar to a Business After 5\, featuring culinary delights from multiple local member restaurants. Exciting entertainment will be provided by Brandon School of Dance. All employees of our member business are welcome and encouraged to attend.
X-ALT-DESC;FMTTYPE=text/html:<span style="font-size: 14px\;"><span style="font-family: arial\,sans-serif\;"><span style="color: rgb(59\, 61\, 65)\;">The AGM is filled with networking opportunities\, best practice sessions for business\, and speaker sessions centered on the issues facing Manitoba business. The meeting wraps up with a policy debate that allows our members to set forth MCC&#39\;s advocacy direction. With the political landscape changing over the next year\, there is even more focus on ensuring a strong policy and advocacy agenda. The full agenda can be found <a href="http://www.mbchamber.mb.ca/wp-content/uploads/2015/03/2015-MCC-AGM-Agenda.pdf">here</a>. </span></span><br />\n<br />\n<span style="color: rgb(59\, 61\, 65)\; font-family: &quot\;Arial&quot\;\,&quot\;sans-serif&quot\;\; mso-fareast-font-family: &quot\;Times New Roman&quot\;\; mso-ansi-language: EN-US\; mso-fareast-language: EN-US\; mso-bidi-language: AR-SA\;">The AGM agenda for this year is focused on providing members and local chambers with speaker sessions centered on the issues facing Manitoba business. This year there are sessions dedicated to workforce\, rural economic development\, economic competitiveness and a political pundits session. The speakers list includes:</span></span>\n\n<ul>\n	<li><span style="font-size: 14px\;"><span style="color: rgb(59\, 61\, 65)\; font-family: &quot\;Arial&quot\;\,&quot\;sans-serif&quot\;\; mso-fareast-font-family: &quot\;Times New Roman&quot\;\; mso-ansi-language: EN-US\; mso-fareast-language: EN-US\; mso-bidi-language: AR-SA\;">Sue Barkman\, CEO\, Skills Connect</span></span></li>\n	<li><span style="font-size: 14px\;"><span style="color: rgb(59\, 61\, 65)\; font-family: &quot\;Arial&quot\;\,&quot\;sans-serif&quot\;\; mso-fareast-font-family: &quot\;Times New Roman&quot\;\; mso-ansi-language: EN-US\; mso-fareast-language: EN-US\; mso-bidi-language: AR-SA\;">Michael McMullen\, Chair\, Canadian Chamber of Commerce</span></span></li>\n	<li><span style="font-size: 14px\;"><span style="color: rgb(59\, 61\, 65)\; font-family: &quot\;Arial&quot\;\,&quot\;sans-serif&quot\;\; mso-fareast-font-family: &quot\;Times New Roman&quot\;\; mso-ansi-language: EN-US\; mso-fareast-language: EN-US\; mso-bidi-language: AR-SA\;">Greg Dandewich\, Senior Vice President Economic Development Winnipeg</span></span></li>\n	<li><span style="font-size: 14px\;"><span style="color: rgb(59\, 61\, 65)\; font-family: &quot\;Arial&quot\;\,&quot\;sans-serif&quot\;\; mso-fareast-font-family: &quot\;Times New Roman&quot\;\; mso-ansi-language: EN-US\; mso-fareast-language: EN-US\; mso-bidi-language: AR-SA\;">Curtis Brown\, Probe Research</span></span></li>\n	<li><span style="font-size: 14px\;"><span style="color: rgb(59\, 61\, 65)\; font-family: &quot\;Arial&quot\;\,&quot\;sans-serif&quot\;\; mso-fareast-font-family: &quot\;Times New Roman&quot\;\; mso-ansi-language: EN-US\; mso-fareast-language: EN-US\; mso-bidi-language: AR-SA\;">and&nbsp\;more</span></span></li>\n</ul>\n<br />\n<span style="font-size: 18px\;"><span style="font-size: 16px\;"><span style="font-size: 14px\;">Showcase your business to Manitoba: <a href="http://www.brandonchamber.ca/wp-content/uploads/2015/03/MCC-AGM-Sponsorship_Brandon.pdf">sponsorship opportunities can be viewed </a><a href="http://www.brandonchamber.ca/wp-content/uploads/2015/03/MCC-AGM-Sponsorship_Brandon.pdf"><font color="#0066cc">here</font></a>. AGM Sponsors support the growth of business development and economic change within the <span style="font-family: arial\;">province</span>. </span></span></span><br />\n&nbsp\;\n<p style="margin: 0in 0in 0pt\;"><span style="font-size: 14px\;"><span style="font-family: arial\;"><span style="color: rgb(0\, 0\, 255)\;"><em><strong><u>FRIDAY RECEPTION</u></strong></em></span><br />\n<font color="#000000">Your Chamber Events Committee has been planning a special treat\, as we host the welcoming reception at the Manitoba Institute of Culinary Arts located at ACC?s North Hill Campus. Think of the event similar to a Business After 5\, featuring culinary delights from multiple local member restaurants. Exciting entertainment will be provided by Brandon School of Dance. All employees of our member business are welcome and encouraged to attend. </font></span></span></p>\n
LOCATION:Friday Reception: Manitoba Institute of Culinary Arts\, ACC North Campus Park in Len Evans Lot - view parking map Conference and Banquet: Victoria Inn Hotel & Convention Centre
UID:e.1595.281
SEQUENCE:3
DTSTAMP:20260420T064738Z
URL:https://dev.brandonchamber.ca/events/details/manitoba-chambers-of-commerce-agm-05-01-2015-281
END:VEVENT

END:VCALENDAR
