BEGIN:VCALENDAR
VERSION:2.0
PRODID:-//ChamberMaster//Event Calendar 2.0//EN
METHOD:PUBLISH
X-PUBLISHED-TTL:P3D
REFRESH-INTERVAL:P3D
CALSCALE:GREGORIAN
BEGIN:VEVENT
DTSTART:20130320T133000Z
DTEND:20130320T213000Z
X-MICROSOFT-CDO-ALLDAYEVENT:FALSE
SUMMARY:Making Money Using Facebook
DESCRIPTION:This workshop is not theory\, not some fancy idea that gets you charged up and then scratching your head wondering what to do when it is over. We are actually going to build it all together on this day and you will leave with a social media machine that brings you new clients that you can trace right back to Facebook!\n\n \n\nAt the end of the workshop you will leave with:\n\n	A Working Facebook Fanpage\n	An offer that drives people into your business\, regardless of your business type\n	An advertising campaign that drives prospects to your Fanpage offer so you can finally start profiting from the world's biggest social network\n	A plan to profit from Facebook in 15 minutes a day or less\n\nChris Fougere owns and operates Freedom Marketing Coach\, a successful Sales & Marketing firm www.freedommarketingcoach.com in Winnipeg Manitoba as well as a thriving restaurant in the Winnipeg area.  Since 2009\, Chris has helped several small and medium-sized businesses create marketing systems for developing a predictable flow of new and repeat business.\n\n \n\nFor more information or to register\, please see the following link: http://facebookprofitsforbiz.eventbrite.ca/#
X-ALT-DESC;FMTTYPE=text/html:<strong><span style="color: black\;"><span style="font-family: calibri\,sans-serif\;"><span style="font-size: 14pt\;">This workshop</span></span></span></strong><span style="color: black\;"><span style="font-family: calibri\,sans-serif\;"><span style="font-size: 14pt\;"> is not theory\, not some fancy idea that gets you charged up and then scratching your head wondering what to do when it is over. We are actually going to build it all together on this day and you will leave with a social media machine that brings you new clients that you can trace right back to Facebook!</span></span></span><br />\n&nbsp\;<br />\n<em><strong><span style="font-style: normal\;"><span style="font-family: calibri\,sans-serif\;"><span style="font-size: 14pt\;">At the end</span></span></span></strong></em><em><span style="font-style: normal\;"><span style="font-family: calibri\,sans-serif\;"><span style="font-size: 14pt\;"> of the workshop you will leave with:</span></span></span></em>\n<ol>\n	<li style="background: white\; vertical-align: top\;"><em><span style="font-style: normal\;"><span style="font-family: calibri\,sans-serif\;"><span style="font-size: 14pt\;">A Working Facebook Fanpage</span></span></span></em></li>\n	<li style="background: white\; vertical-align: top\;"><em><span style="font-style: normal\;"><span style="font-family: calibri\,sans-serif\;"><span style="font-size: 14pt\;">An offer that drives people into your business\, regardless of your business type</span></span></span></em></li>\n	<li style="background: white\; vertical-align: top\;"><em><span style="font-style: normal\;"><span style="font-family: calibri\,sans-serif\;"><span style="font-size: 14pt\;">An advertising campaign that drives prospects to your Fanpage offer so you can finally start profiting from the world&rsquo\;s biggest social network</span></span></span></em></li>\n	<li style="background: white\; line-height: 19.2pt\; vertical-align: top\;"><em><span style="font-style: normal\;"><span style="font-family: calibri\,sans-serif\;"><span style="font-size: 14pt\;">A plan to profit from Facebook in 15 minutes a day or less</span></span></span></em></li>\n</ol>\n<strong><span style="font-family: calibri\,sans-serif\;"><span style="font-size: 14pt\;">Chris Fougere</span></span></strong><span style="font-family: calibri\,sans-serif\;"><span style="font-size: 14pt\;"> owns and operates Freedom Marketing Coach\, a successful Sales &amp\; Marketing firm&nbsp\;<a href="http://r20.rs6.net/tn.jsp?llr=tbq5l6dab&amp\;et=1109051897487&amp\;s=6316&amp\;e=001mw6WftJF113ccVeDyND_T-BNV8GFrLUDWuwDXEiKDowirM4sgRTwarz5enOb2S8X8JlRAVdMkW9zHEA7Bh6Px__hDu-O04VsCGKqp2g6hg1H5EDqVy8m7Q==" target="_blank"><span style="text-decoration: none\; text-underline: none\;"><span style="color: windowtext\;">www.freedommarketingcoach.com</span></span></a>&nbsp\;in Winnipeg Manitoba as well as a thriving restaurant in the Winnipeg area.&nbsp\; Since 2009\, Chris has helped several small and medium-sized businesses create marketing systems for developing a predictable flow of new and repeat business.</span></span><br />\n&nbsp\;<br />\n<span style="font-family: calibri\,sans-serif\;"><span style="font-size: 14pt\;">For more information or to register\, please see the following link: <a href="http://facebookprofitsforbiz.eventbrite.ca/"><span style="color: windowtext\;">http://facebookprofitsforbiz.eventbrite.ca/#</span></a></span></span>
LOCATION:Royal Oak Inn & Suites Kensington Hall\, 3130 Victoria Ave.
UID:e.1595.20
SEQUENCE:3
DTSTAMP:20260422T022548Z
URL:https://dev.brandonchamber.ca/events/details/making-money-using-facebook-03-20-2013-20
END:VEVENT

END:VCALENDAR
