BEGIN:VCALENDAR
VERSION:2.0
PRODID:-//ChamberMaster//Event Calendar 2.0//EN
METHOD:PUBLISH
X-PUBLISHED-TTL:P3D
REFRESH-INTERVAL:P3D
CALSCALE:GREGORIAN
BEGIN:VEVENT
DTSTART:20151008T160000Z
DTEND:20151008T180000Z
X-MICROSOFT-CDO-ALLDAYEVENT:FALSE
SUMMARY:Luncheon: 2015 Federal Election Forum
DESCRIPTION:Hear candidates views of keeping commerce alive and well in our community\, along with other hot topics as they run for the position of Member of Parliament for the Brandon-Souris area. \n\n\n\nPlease note the early start time\n\n\n\nSponsored by: Westoba Credit Union\n\nas well as: Benmarks\n\n\n\nTo help sort out all the election news and promises\, we invite you to click any of the following links to stay informed during the campaign:\n\n\n\nThe Conservative Party of Canada\n\nLiberal Party of Canada\n\nCanada's NDP\n\nGreen Party of Canada\n\n\n\nNews Links:\n\nCanadian Chamber of Commerce - "A Canada that Wins" election platform\n\nThreeHundredEight - A website dedicated to political polling and electoral forecasts.\n\nNational Newswatch - Collection of news stories from around the country\n\nCBC\n\nCTV\n\nGlobal\n\n\n\nElections Canada Website\n\nVote October 19th\, 2015
X-ALT-DESC;FMTTYPE=text/html:<span style="font-size: 14px\;"><span style="font-family: arial\;"><span style="language: en-CA\;">Hear candidates views of keeping commerce alive and well in our community\, along with other hot topics as they run for the position of Member of Parliament for the Brandon-Souris area. </span></span></span><br />\n<br />\n<span style="font-style: italic\; language: en-CA\;"><strong><font size="3">Please note the&nbsp\;early start time</font></strong></span><br />\n<br />\n<span style="font-size: 14px\;"><span style="font-family: arial\;"><span style="font-style: italic\; language: en-CA\;">Sponsored by: <strong><a href="http://westobacu.com/">Westoba Credit Union</a></strong><br />\nas well as:<strong> <a href="http://www.benmarks.com/index.php">Benmarks</a></strong></span><br />\n<br />\nTo help sort out all the election news and promises\, we invite you to click any of the following links to stay informed during the campaign:<br />\n<br />\n<span style="color: rgb(59\, 61\, 65)\;"><a href="http://r20.rs6.net/tn.jsp?f=001yQ8HgEfVW9Ha2kV5L-90th4yizNIbQlxqWrgmlzIEMRDzsdzeQpXSfhaEXNkqdNL72uJ4vlfOU4I7vaalviqgzZ9t4UtmwtiV2slKQv0ZOcD8b7HkOdvgfgC_s9-rZu94OC75XzjeX6lmCF5ktEd3JreyEeGvy9zenVl0LOvMQq5_TpyPCuEOoIUgXFcLtNCtG7WLxjR6W29MwQZyi39GemHGYkqtsSA0lYtVQ07yEbvuDfvyyk04hF959INqNHCbdz11JZ_PmVMLQU9HOJg81QD-16GUDB3F9nS6DTtYxhmF739uwV1zoTfGX17BC0H&amp\;c=1JRhW64K5Q_uYXz_Q6Y28erxAjLwHDpS-4jUz6q9wY98QpqyVUMC5Q==&amp\;ch=vrWn0SOHhcwSeO7QIfUuroU8i1HkTxcdl6coM04_ZJ5sI-CyEUOhdQ==" target="_blank"><em><span style="text-decoration: none\; text-underline: none\;"><span style="color: rgb(0\, 110\, 109)\;">The Conservative Party of Canada</span></span></em></a><br />\n<a alt="https://www.liberal.ca/?utm_source=MBiz_E-Newsletter+September+14+2015&amp\;utm_campaign=sept+14&amp\;utm_medium=email" href="http://r20.rs6.net/tn.jsp?f=001yQ8HgEfVW9Ha2kV5L-90th4yizNIbQlxqWrgmlzIEMRDzsdzeQpXSfhaEXNkqdNLC57zdNFc1NdfAbN5vTWVCze2dB84-iZU1mmMUXS14xZVwKPU_iLyuwOmahGDDxt5haOvFrkgOSyOGM88LfAQPJXjQ7CgSeuFF5vfPguebovojjy2_A2p1B5aI4lOkVZdQ_OfISSGgtlBAHeSfvBQzP8Zffk140EW2nlig4XDzwbIadKgQDvF0rkShLtpv2Xy-QeEl9s-j6mw1uE84sTr3Tdh_Bb2ALZLGNApUCggtzswdxbcLeBW-w==&amp\;c=1JRhW64K5Q_uYXz_Q6Y28erxAjLwHDpS-4jUz6q9wY98QpqyVUMC5Q==&amp\;ch=vrWn0SOHhcwSeO7QIfUuroU8i1HkTxcdl6coM04_ZJ5sI-CyEUOhdQ==" linktype="1" shape="rect" target="_blank" track="on"><em><span style="text-decoration: none\; text-underline: none\;"><span style="color: rgb(0\, 110\, 109)\;">Liberal Party of Canada</span></span></em></a><br />\n<a alt="http://www.ndp.ca/?utm_source=MBiz_E-Newsletter+September+14+2015&amp\;utm_campaign=sept+14&amp\;utm_medium=email" href="http://r20.rs6.net/tn.jsp?f=001yQ8HgEfVW9Ha2kV5L-90th4yizNIbQlxqWrgmlzIEMRDzsdzeQpXSfhaEXNkqdNLHGjLjiXU00Bh1FNGXeJR7YyjkitDRhTAmFNEZEWsw0g4MVeH2IJK0oyKTHe6dLLWeLj5iWlW9_443Ly0_PdvYnH-CNfYun8Rpv7izfjoaSPi8DofhYqDgvh84r-QdYW-TIsq6yRZpXPV9kYTVZTZeRTyU5zLHujEHVrfkyYaYLSxoW53kpFxgVbGSjD4L_RuSHuOQ_tJoeOTkVLIdBW1-HZ5-8BQ0B8M4o8Nq2H5t0NiL3pU0H2yFQ==&amp\;c=1JRhW64K5Q_uYXz_Q6Y28erxAjLwHDpS-4jUz6q9wY98QpqyVUMC5Q==&amp\;ch=vrWn0SOHhcwSeO7QIfUuroU8i1HkTxcdl6coM04_ZJ5sI-CyEUOhdQ==" linktype="1" shape="rect" target="_blank" track="on"><em><span style="text-decoration: none\; text-underline: none\;"><span style="color: rgb(0\, 110\, 109)\;">Canada&#39\;s NDP</span></span></em></a><br />\n<a alt="http://www.greenparty.ca/en?utm_source=MBiz_E-Newsletter+September+14+2015&amp\;utm_campaign=sept+14&amp\;utm_medium=email" href="http://r20.rs6.net/tn.jsp?f=001yQ8HgEfVW9Ha2kV5L-90th4yizNIbQlxqWrgmlzIEMRDzsdzeQpXSfhaEXNkqdNLydWpmEd7J2V2_CmX7LvsoaBXNI9wPtHzzzZ5gtZ717dWfeuq9_qRoEfW7yOci3UN_f9k-122iggoeBwjdA8JFuhdiY7KrAQ-Xf6d6I3pMEJyqMdMvHW5wyj8XSqXnAaE7gtXMfl_tTmyvAFrKB51sZkRo-wWuzn293yh_A_tXehhsJSB8DXaUdNfifzxylMCSGpuT6_fwE888sTEoQ-Vf3K7E7of-L5IR1VlX3eQCjPj_zw2DNHvxqBJMLneDCav&amp\;c=1JRhW64K5Q_uYXz_Q6Y28erxAjLwHDpS-4jUz6q9wY98QpqyVUMC5Q==&amp\;ch=vrWn0SOHhcwSeO7QIfUuroU8i1HkTxcdl6coM04_ZJ5sI-CyEUOhdQ==" linktype="1" shape="rect" target="_blank" track="on"><em><span style="text-decoration: none\; text-underline: none\;"><span style="color: rgb(0\, 110\, 109)\;">Green Party of Canada</span></span></em></a></span><br />\n<br />\nNews Links:<br />\n<span style="color: rgb(59\, 61\, 65)\; mso-fareast-font-family: &quot\;Times New Roman&quot\;\; mso-ansi-language: EN-US\; mso-fareast-language: EN-US\; mso-bidi-language: AR-SA\;"><a href="http://r20.rs6.net/tn.jsp?f=001yQ8HgEfVW9Ha2kV5L-90th4yizNIbQlxqWrgmlzIEMRDzsdzeQpXSfhaEXNkqdNL02Shy8Dj4lZ09ZXUbeKT_yTN8JwSQZ_X8w87m6z1EkAKHNko7TWryNWf-Dw31VXKk1T3X_5oz3XXNR5hJ3o3NbKZHTUVYAsbSnTutJX5yLDKewsflZBj0MY2nqwWgX6bXSmi6i-e033CMlKND0Dh1HjG2-jcW1M2wM24YIkAW4GRXW6-hXlBfggZ-s_Px1ETKyTUB6_7k5WVHGo4ii1bRYYEM5xy9CXt0Wl78TE1RnVaez2htNeVdosyJhvOOhajjq7ez6HE9JuzZzsDC3diZA==&amp\;c=1JRhW64K5Q_uYXz_Q6Y28erxAjLwHDpS-4jUz6q9wY98QpqyVUMC5Q==&amp\;ch=vrWn0SOHhcwSeO7QIfUuroU8i1HkTxcdl6coM04_ZJ5sI-CyEUOhdQ==" target="_blank"><i><span style="color: rgb(0\, 110\, 109)\; text-decoration: none\; text-underline: none\;">Canadian Chamber of Commerce</span></i></a> -&nbsp\;&quot\;A Canada that Wins&quot\; election platform<br />\n<a alt="http://www.threehundredeight.com/?utm_source=MBiz_E-Newsletter+September+14+2015&amp\;utm_campaign=sept+14&amp\;utm_medium=email" href="http://r20.rs6.net/tn.jsp?f=001yQ8HgEfVW9Ha2kV5L-90th4yizNIbQlxqWrgmlzIEMRDzsdzeQpXSfhaEXNkqdNL4LXwdxZR7-5TZZUymtCGszuP397e_RLxw0PVe5z-PnWE9Wz86-oUU5NvdKkx94t90UNBL-WAMFt8-MqwuR5rqMgpXOBT_6A33z_JhbnUBkXqgr7zxqZkd1IWWI5ExIniq9l2E0msNEXi6t2Yq5iaqwmeafjTy-Ivg65KJ4QY81m2lQJjgby0IHF8J1uIXeoetA45rj7HKB73CA7ED1Oc6bAxkt3SdbSGVrTXLnnHh2SNcdfcK3JqyIOyb74IPLY7qzjAb_r4V5s=&amp\;c=1JRhW64K5Q_uYXz_Q6Y28erxAjLwHDpS-4jUz6q9wY98QpqyVUMC5Q==&amp\;ch=vrWn0SOHhcwSeO7QIfUuroU8i1HkTxcdl6coM04_ZJ5sI-CyEUOhdQ==" linktype="1" shape="rect" target="_blank" track="on"><i><span style="color: rgb(0\, 110\, 109)\; text-decoration: none\; text-underline: none\;">ThreeHundredEight</span></i></a> - A website dedicated to political polling and electoral forecasts.<br />\n<a alt="http://www.nationalnewswatch.com/?utm_source=MBiz_E-Newsletter+September+14+2015&amp\;utm_campaign=sept+14&amp\;utm_medium=email" href="http://r20.rs6.net/tn.jsp?f=001yQ8HgEfVW9Ha2kV5L-90th4yizNIbQlxqWrgmlzIEMRDzsdzeQpXSfhaEXNkqdNLu-t8bnjLM9I7mnNlRXK28aBQzBRXfO1LPlvbmRDe1s7qsfSFpD_LsafPbsxbELg9VHk-qR1aptB-sv8PcUptO5NsxYMz1Fgd_FK1_rZUEHubMHHnxWHjYl_qkTeRQ_MrwvnpfFMjJaD9wfqXzJC0VaRSgDGZPO2jaPcp0feeZix07mh6EaAzcLoaxrCK_PqJ-5vzUTopjvm7S7c9BLjRx2fHG-CaW3d9z-MbhvaoCBox0BKRhah50be58Co1JoLSOhGYGMyBz_M=&amp\;c=1JRhW64K5Q_uYXz_Q6Y28erxAjLwHDpS-4jUz6q9wY98QpqyVUMC5Q==&amp\;ch=vrWn0SOHhcwSeO7QIfUuroU8i1HkTxcdl6coM04_ZJ5sI-CyEUOhdQ==" linktype="1" shape="rect" target="_blank" track="on"><i><span style="color: rgb(0\, 110\, 109)\; text-decoration: none\; text-underline: none\;">National Newswatch</span></i></a> - Collection of news stories from around the country<br />\n<a alt="http://www.cbc.ca/news/politics?utm_source=MBiz_E-Newsletter+September+14+2015&amp\;utm_campaign=sept+14&amp\;utm_medium=email" href="http://r20.rs6.net/tn.jsp?f=001yQ8HgEfVW9Ha2kV5L-90th4yizNIbQlxqWrgmlzIEMRDzsdzeQpXSfhaEXNkqdNLpTPDzMUwRVdZp6B41WeMY_usNYgtWvF_delNea_4Zts64FbMVpChOQZJCtc66O0Az7N-7OzX58wGe3q-olW1PeDiVw2EFbhIQwzJa2e19ljVakwGGi8fTK5ro7d1-zcKVwDcBFStnHVeBWaTxW_boaq6Xp644Ll-ek85DU0RWHa960kmhf47SR6AV_yyssyB2Unl_8b7NBD1aja6ZamLrbHjbHRm37xiznIMH33P76raT6rzxSmEzQyp2be5R4AJPPoGkeig3mU=&amp\;c=1JRhW64K5Q_uYXz_Q6Y28erxAjLwHDpS-4jUz6q9wY98QpqyVUMC5Q==&amp\;ch=vrWn0SOHhcwSeO7QIfUuroU8i1HkTxcdl6coM04_ZJ5sI-CyEUOhdQ==" linktype="1" shape="rect" target="_blank" track="on"><i><span style="color: rgb(0\, 110\, 109)\; text-decoration: none\; text-underline: none\;">CBC</span></i></a><br />\n<a alt="http://www.ctvnews.ca/politics/election?utm_source=MBiz_E-Newsletter+September+14+2015&amp\;utm_campaign=sept+14&amp\;utm_medium=email" href="http://r20.rs6.net/tn.jsp?f=001yQ8HgEfVW9Ha2kV5L-90th4yizNIbQlxqWrgmlzIEMRDzsdzeQpXSfhaEXNkqdNLkjF8eGd9VJ-0jh4_BhVJCnIFDl9TVw7AVzGejmvzHAqetYBWWS6oNLUgwPz0_DKAesNvt1xrIKLm7Y2BGhDNL3LhbY7Crg2DyvY-Gfqws9VS3Irs2QgVv55PjjBFXQ6KtE03pnXDFDACY4T79tJtC2nUdM48gFTPTqyTqshD09I33qLdBJN6jNgIgFeIgR6e_T-VUurWdbHE-yZ1bglqRlV2fNh4df2Dlu6d887GceBfO-gMm-bEgvqB2MwcK7W1lPCC5rigcRsur6xjFc9-FA==&amp\;c=1JRhW64K5Q_uYXz_Q6Y28erxAjLwHDpS-4jUz6q9wY98QpqyVUMC5Q==&amp\;ch=vrWn0SOHhcwSeO7QIfUuroU8i1HkTxcdl6coM04_ZJ5sI-CyEUOhdQ==" linktype="1" shape="rect" target="_blank" track="on"><i><span style="color: rgb(0\, 110\, 109)\; text-decoration: none\; text-underline: none\;">CTV</span></i></a><br />\n<a alt="http://globalnews.ca/politics/?utm_source=MBiz_E-Newsletter+September+14+2015&amp\;utm_campaign=sept+14&amp\;utm_medium=email" href="http://r20.rs6.net/tn.jsp?f=001yQ8HgEfVW9Ha2kV5L-90th4yizNIbQlxqWrgmlzIEMRDzsdzeQpXSfhaEXNkqdNLF-ctAGOJd2jAR3I_qmGZFGHa26gbyeM-aeMnjM5JWVqwM7Zg93nNO5JfGxWes-76npzYnAOM9v9PmoJenr0XCRF7BMWSo5exrHds3zALvnfBfBNd-7I7dR8P-YvNTN3DXhuu6p-fcbV6PUZ8pWNMM_0a3-ZVAMY7DVK4lcSbwrc4BiXoGpXMj4fDUBM7TI38Nm7XJnvtH_UlvPTOJ_OedS1Cg-oZ_orJgunBOSNSnaq2e3rVbxGrsWX92zk0hExy&amp\;c=1JRhW64K5Q_uYXz_Q6Y28erxAjLwHDpS-4jUz6q9wY98QpqyVUMC5Q==&amp\;ch=vrWn0SOHhcwSeO7QIfUuroU8i1HkTxcdl6coM04_ZJ5sI-CyEUOhdQ==" linktype="1" shape="rect" target="_blank" track="on"><i><span style="color: rgb(0\, 110\, 109)\; text-decoration: none\; text-underline: none\;">Global</span></i></a><br />\n<br />\n<a href="http://www.elections.ca/home.aspx"><font size="3">Elections Canada Website</font></a></span></span></span><br />\n<font size="3">Vote October 19th\, 2015 </font><br />\n&nbsp\;
LOCATION:UCT Pavilion\, Keystone Centre 1175 - 18th Street
UID:e.1595.386
SEQUENCE:3
DTSTAMP:20260419T234515Z
URL:https://dev.brandonchamber.ca/events/details/luncheon-2015-federal-election-forum-10-08-2015-386
END:VEVENT

END:VCALENDAR
