BEGIN:VCALENDAR
VERSION:2.0
PRODID:-//ChamberMaster//Event Calendar 2.0//EN
METHOD:PUBLISH
X-PUBLISHED-TTL:P3D
REFRESH-INTERVAL:P3D
CALSCALE:GREGORIAN
BEGIN:VEVENT
DTSTART:20260509T140000Z
DTEND:20260509T210000Z
X-MICROSOFT-CDO-ALLDAYEVENT:FALSE
SUMMARY:Livingstone Outdoor Customer Appreciation Day
DESCRIPTION:Sales & Specials in the Gift Shop\, Greenhouse\, and Garden Centre.\n\nDoor Prizes\, Draws & Giveaways\n\nKids Activities and Sabor Latino's food truck on site!\n\n\n\nMark your calendars\, and invite your friends and family!
X-ALT-DESC;FMTTYPE=text/html:<p>Sales &amp\; Specials in the Gift Shop\, Greenhouse\, and Garden Centre.<br />\nDoor Prizes\, Draws &amp\; Giveaways<br />\nKids Activities and Sabor Latino&#39\;s food truck on site!<br />\n<br />\nMark your calendars\, and invite your friends and family!</p>\n
LOCATION:Livingstone Outdoor: 1610 Byng Ave
UID:e.1595.3218
SEQUENCE:3
DTSTAMP:20260423T080632Z
URL:https://dev.brandonchamber.ca/events/details/livingstone-outdoor-customer-appreciation-day-3218
END:VEVENT

END:VCALENDAR
