BEGIN:VCALENDAR
VERSION:2.0
PRODID:-//ChamberMaster//Event Calendar 2.0//EN
METHOD:PUBLISH
X-PUBLISHED-TTL:P3D
REFRESH-INTERVAL:P3D
CALSCALE:GREGORIAN
BEGIN:VEVENT
DTSTART:20160217T150000Z
DTEND:20160217T180000Z
X-MICROSOFT-CDO-ALLDAYEVENT:FALSE
SUMMARY:Leveraging the Power of Social Media to Grow Your Business
DESCRIPTION:SOLD OUT - contact the Chamber to be put on the waiting list\n\n\n\nLearn how to identify your audience\, connect with them directly and turn leads into customers.\n\n \n\nThis course will cover the following topics:   \n\n \n\n	What social media platforms should your business be using?\n	Maximizing your social media profiles to reach more customers.\n	How do I know social media is working for me?\n	Facebook advertising.\n	Tips and Tricks for using Social Media.\n	Facilitated open discussion.\n\nWho Should Attend? \n\nBusiness owners or social media account coordinators/managers that currently use social media platforms\, but want to know how to use it more effectively.\n\n\n\nPresented by Karen Burton\, Marketing and Communications Coordinator at the Provincial Exhibition of Manitoba who is responsible for maintaining three websites\, 2 Facebook accounts\, Twitter and Pinterest. She has been working in the marketing sector for over 15 years.\n\n\n\nSponsored by: Entrepreneurship MB\, Economic Development Brandon\, Brandon Chamber of Commerce
X-ALT-DESC;FMTTYPE=text/html:<span style="font-size: medium\;"><span style="font-family: helvetica\,sans-serif\;"><span style="color: rgb(165\, 42\, 42)\;">SOLD OUT</span><span style="color: rgb(32\, 32\, 32)\;"> - contact the Chamber to be put on the waiting list<br />\n<br />\nLearn how to identify your audience\, connect with them directly and turn leads into customers.<br />\n&nbsp\;<br />\nThis course will cover the following topics:</span></span></span><span style="font-family: times new roman\;">&nbsp\;</span><span style="font-size: medium\;"><span style="font-family: times new roman\;">&nbsp\; </span></span><br />\n&nbsp\;\n<ul>\n	<li style="color: rgb(32\, 32\, 32)\; line-height: 150%\;"><span style="font-family: helvetica\,sans-serif\;"><span style="font-size: medium\;">What social media platforms should your business be using?</span></span></li>\n	<li style="color: rgb(32\, 32\, 32)\; line-height: 150%\;"><span style="font-family: helvetica\,sans-serif\;"><span style="font-size: medium\;">Maximizing your social media profiles to reach more customers.</span></span></li>\n	<li style="color: rgb(32\, 32\, 32)\; line-height: 150%\;"><span style="font-family: helvetica\,sans-serif\;"><span style="font-size: medium\;">How do I know social media is working for me?</span></span></li>\n	<li style="color: rgb(32\, 32\, 32)\; line-height: 150%\;"><span style="font-family: helvetica\,sans-serif\;"><span style="font-size: medium\;">Facebook advertising.</span></span></li>\n	<li style="color: rgb(32\, 32\, 32)\; line-height: 150%\;"><span style="font-family: helvetica\,sans-serif\;"><span style="font-size: medium\;">Tips and Tricks for using Social Media.</span></span></li>\n	<li style="color: rgb(32\, 32\, 32)\; line-height: 150%\;"><span style="font-family: helvetica\,sans-serif\;"><span style="font-size: medium\;">Facilitated open discussion.</span></span></li>\n</ul>\n<strong><span style="font-size: 12pt\;"><span style="font-family: helvetica\,sans-serif\;"><span style="color: rgb(32\, 32\, 32)\;">Who Should Attend? </span></span></span></strong><br />\n<span style="font-size: 12pt\;"><span style="font-family: helvetica\,sans-serif\;"><span style="color: rgb(32\, 32\, 32)\;">Business owners or social media account coordinators/managers that currently use social media platforms\, but want to know how to&nbsp\;use it more effectively.</span></span></span><br />\n<br />\n<span style="font-size: 14px\;">Presented by Karen Burton\, Marketing and Communications Coordinator at the Provincial Exhibition of Manitoba who is responsible for maintaining three websites\, 2 Facebook accounts\, Twitter and Pinterest. She has been working in the marketing sector for over 15 years.</span><br />\n<br />\n<em>Sponsored by: Entrepreneurship MB\, Economic Development Brandon\, Brandon Chamber of Commerce</em>
LOCATION:Riverbank Discovery Centre - 545 Conservation Dr - Brandon\, MB
UID:e.1595.405
SEQUENCE:3
DTSTAMP:20260419T183427Z
URL:https://dev.brandonchamber.ca/events/details/leveraging-the-power-of-social-media-to-grow-your-business-02-17-2016-405
END:VEVENT

END:VCALENDAR
