BEGIN:VCALENDAR
VERSION:2.0
PRODID:-//ChamberMaster//Event Calendar 2.0//EN
METHOD:PUBLISH
X-PUBLISHED-TTL:P3D
REFRESH-INTERVAL:P3D
CALSCALE:GREGORIAN
BEGIN:VEVENT
DTSTART;VALUE=DATE:20140627
DTEND;VALUE=DATE:20140628
TRANSP:TRANSPARENT
X-MICROSOFT-CDO-ALLDAYEVENT:TRUE
SUMMARY:Larry Maguire MP - 1st Annual Charity Golf Tournament
DESCRIPTION:Join the Brandon-Souris MP\, Larry Maguire\, in his first Charity Golf Tournament.
X-ALT-DESC;FMTTYPE=text/html:Join the Brandon-Souris MP\, Larry Maguire\, in his first Charity Golf Tournament.<br />\n<br />\n&nbsp\;
LOCATION:Shilo Golf and Country Club
UID:e.1595.99
SEQUENCE:3
DTSTAMP:20260421T082904Z
URL:https://dev.brandonchamber.ca/events/details/larry-maguire-mp-1st-annual-charity-golf-tournament-06-27-2014-99
END:VEVENT

END:VCALENDAR
