BEGIN:VCALENDAR
VERSION:2.0
PRODID:-//ChamberMaster//Event Calendar 2.0//EN
METHOD:PUBLISH
X-PUBLISHED-TTL:P3D
REFRESH-INTERVAL:P3D
CALSCALE:GREGORIAN
BEGIN:VEVENT
DTSTART:20160610T000000Z
DTEND:20160610T040000Z
X-MICROSOFT-CDO-ALLDAYEVENT:FALSE
SUMMARY:Larry Maguire Charity IceBreaker Event
DESCRIPTION:Larry Maguire Charity Icebreaker event\n\nTicket Price $50 \n\nOpen bar and hors d'oeuvres will be served. \n\nPurchase of a ticket includes entry into big name draws \n\nthat will be announced closer to the date. \n\nAll proceeds go to Special Olympics Westman And the Rick Hanson Foundation
X-ALT-DESC;FMTTYPE=text/html:<br />\n<span style="font-size: 20px\;"><strong>Larry Maguire Charity Icebreaker&nbsp\;event</strong><br />\n<strong><span style="font-family: calisto mt\;">Ticket Price $50&nbsp\;</span></strong><br />\n<strong><span style="font-family: calisto mt\;">Open bar and hors d&rsquo\;oeuvres will be served. </span></strong><br />\n<span style="font-family: calisto mt\;">Purchase of a ticket includes entry into big name draws </span><br />\n<span style="font-family: calisto mt\;">that will be announced closer to the date. </span><br />\n<strong><span style="font-family: calisto mt\;">All proceeds go to Special Olympics Westman And the Rick Hanson Foundation</span></strong></span><br />\n<br />\n&nbsp\;<br />\n&nbsp\;<br />\n<br />\n&nbsp\;<br />\n&nbsp\;
LOCATION:Victoria Inn - 3550 Victoria Avenue
UID:e.1595.438
SEQUENCE:3
DTSTAMP:20260419T131329Z
URL:https://dev.brandonchamber.ca/events/details/larry-maguire-charity-icebreaker-event-06-09-2016-438
END:VEVENT

END:VCALENDAR
