BEGIN:VCALENDAR
VERSION:2.0
PRODID:-//ChamberMaster//Event Calendar 2.0//EN
METHOD:PUBLISH
X-PUBLISHED-TTL:P3D
REFRESH-INTERVAL:P3D
CALSCALE:GREGORIAN
BEGIN:VEVENT
DTSTART:20131119T230000Z
DTEND:20131120T010000Z
X-MICROSOFT-CDO-ALLDAYEVENT:FALSE
SUMMARY:Keystone - Business After 5
DESCRIPTION:Please join the Brandon Chamber and the Keystone Centre for a Business After 5 event.\n\n\n\nThe Keystone Centre has been busy with extensive renovations to its facility including the Convention Hall\, Amphitheatre\, Main Concourse\, Pioneer Lounge\, Main Boardroom and the Westman Place Arena.\n\n\n\nTake this opportunity to learn more about why the Keystone Centre should be your "first choice" facility for all your convention\, recreation\, agriculture\, and entertainment needs.
X-ALT-DESC;FMTTYPE=text/html:Please join the Brandon Chamber and the Keystone Centre for a Business After 5 event.<br />\n<br />\nThe Keystone Centre has been busy with extensive renovations to its facility including the Convention Hall\, Amphitheatre\, Main Concourse\, Pioneer Lounge\, Main Boardroom and the Westman Place Arena.<br />\n<br />\nTake this opportunity to learn more about why the Keystone Centre should be your &quot\;first choice&quot\; facility for all your convention\, recreation\, agriculture\, and entertainment needs.
LOCATION:Keystone Centre #1 1175 18th Street
UID:e.1595.68
SEQUENCE:3
DTSTAMP:20260423T090906Z
URL:https://dev.brandonchamber.ca/events/details/keystone-business-after-5-11-19-2013-68
END:VEVENT

END:VCALENDAR
