BEGIN:VCALENDAR
VERSION:2.0
PRODID:-//ChamberMaster//Event Calendar 2.0//EN
METHOD:PUBLISH
X-PUBLISHED-TTL:P3D
REFRESH-INTERVAL:P3D
CALSCALE:GREGORIAN
BEGIN:VEVENT
DTSTART:20150826T170000Z
DTEND:20150826T180000Z
X-MICROSOFT-CDO-ALLDAYEVENT:FALSE
SUMMARY:Kelty iManagement LUNCH AND LEARN
DESCRIPTION:August 26\, 2015\n\nKelty iManagement Boardrooms\n\nTopic: Kelty Managed IT Services\n\nPresenter: Greg Wood\n\nPresentation:\n\nShort Overview of Kelty and our Philosophy / Approach to IM / IT\n\nFAB of Managed Services and how it will help ensure business continuity\, save money\, enhance productivity
X-ALT-DESC;FMTTYPE=text/html:<strong><u>August 26\, 2015</u><br />\nKelty iManagement Boardrooms<br />\nTopic: Kelty Managed IT Services<br />\nPresenter: Greg Wood<br />\nPresentation:<br />\nShort Overview of Kelty and our Philosophy / Approach to IM / IT<br />\nFAB of Managed Services and how it will help ensure business continuity\, save money\, enhance productivity</strong><br />\n&nbsp\;
LOCATION:301 - 10th Street Brandon\, Mb
UID:e.1595.338
SEQUENCE:3
DTSTAMP:20260420T022030Z
URL:https://dev.brandonchamber.ca/events/details/kelty-imanagement-lunch-and-learn-08-26-2015-338
END:VEVENT

END:VCALENDAR
