BEGIN:VCALENDAR
VERSION:2.0
PRODID:-//ChamberMaster//Event Calendar 2.0//EN
METHOD:PUBLISH
X-PUBLISHED-TTL:P3D
REFRESH-INTERVAL:P3D
CALSCALE:GREGORIAN
BEGIN:VEVENT
DTSTART:20130606T160000Z
DTEND:20130606T180000Z
X-MICROSOFT-CDO-ALLDAYEVENT:FALSE
SUMMARY:June - Presidents Luncheon & Changeover Ceremony
DESCRIPTION:Please join us in welcoming our 2013-2014 Board of Directors and the new executive team.\n\n	 \n\n	We will hear from incoming President\, Craig Senchuk on his plans and goals for his upcoming term\, and thank outgoing President Nate Andrews for his hard work and dedication to the Chamber throughout his 2012-2013 term.\n\n	\n\n	Special presentations will also be made to our retiring directors.
X-ALT-DESC;FMTTYPE=text/html:<p>\n	Please join us in welcoming our 2013-2014 Board of Directors and the new executive team.<br />\n	&nbsp\;</p>\n<p>\n	We will hear from incoming President\, Craig Senchuk on his plans and goals for his upcoming term\, and thank outgoing President Nate Andrews for his hard work and dedication to the&nbsp\;Chamber throughout his 2012-2013 term.<br />\n	<br />\n	Special presentations will also be&nbsp\;made to our retiring directors.<br />\n	<br />\n	<br />\n	&nbsp\;&nbsp\;<br />\n	&nbsp\;</p>\n
LOCATION:Victoria Inn - Grand Salon
UID:e.1595.14
SEQUENCE:3
DTSTAMP:20260421T223023Z
URL:https://dev.brandonchamber.ca/events/details/june-presidents-luncheon-changeover-ceremony-06-06-2013-14
END:VEVENT

END:VCALENDAR
