BEGIN:VCALENDAR
VERSION:2.0
PRODID:-//ChamberMaster//Event Calendar 2.0//EN
METHOD:PUBLISH
X-PUBLISHED-TTL:P3D
REFRESH-INTERVAL:P3D
CALSCALE:GREGORIAN
BEGIN:VEVENT
DTSTART:20140918T230000Z
DTEND:20140919T030000Z
X-MICROSOFT-CDO-ALLDAYEVENT:FALSE
SUMMARY:iusOpes: Managing Your Human Assets
DESCRIPTION:Module 6 (of this 6 part series): Remuneration Strategies \n\n\n\nThis Module will cover a broad range of compensation issues. The module starts with a discussion of employee motivation as it relates to rewards and consequences. Then\, there is a breakdown of different remuneration strategies. Salaries/wages\, benefits\, and perks are discussed. Finally\, a section on pay administration outlines necessary payroll processes and plans\, with some payroll calculation examples to help you with different payroll scenarios.\n\n\n\nClick here for complete module details
X-ALT-DESC;FMTTYPE=text/html:<u><strong>Module 6</strong></u> (of this 6 part series): <strong><u>Remuneration Strategies </u></strong><br />\n<br />\nThis Module will cover a broad range of compensation issues. The module starts with a discussion of employee motivation as it relates to rewards and consequences. Then\, there is a breakdown of different remuneration strategies. Salaries/wages\, benefits\, and perks are discussed. Finally\, a section on pay administration outlines necessary payroll processes and plans\, with some payroll calculation examples to help you with different payroll scenarios.<br />\n<br />\nClick <u><strong><a href="http://www.brandonchamber.ca/wp-content/uploads/2014/08/Spirit-Staffing.pdf">here</a></strong></u> for complete module details<br />\n&nbsp\;
LOCATION:iusOpes3/ Spirit Staffing & Consulting Office: 3A 457 9th St Brandon\, MB
UID:e.1595.112
SEQUENCE:3
DTSTAMP:20260421T041309Z
URL:https://dev.brandonchamber.ca/events/details/iusopes-managing-your-human-assets-09-18-2014-112
END:VEVENT

END:VCALENDAR
