BEGIN:VCALENDAR
VERSION:2.0
PRODID:-//ChamberMaster//Event Calendar 2.0//EN
METHOD:PUBLISH
X-PUBLISHED-TTL:P3D
REFRESH-INTERVAL:P3D
CALSCALE:GREGORIAN
BEGIN:VEVENT
DTSTART:20140916T230000Z
DTEND:20140917T030000Z
X-MICROSOFT-CDO-ALLDAYEVENT:FALSE
SUMMARY:iusOpes: Managing Your Human Assets
DESCRIPTION:Module 5 (of this 6 part series): Retention Strategies\n\n\n\nThis Module will discuss the implications of employee turnover\, the reasons  for turnover\, what you can do to become an employer of choice\, and how you can build employee loyalty. Helpful tools are attached at the back of the module for your use. \n\n\n\nClick here for complete module details
X-ALT-DESC;FMTTYPE=text/html:<u><strong>Module&nbsp\;5</strong></u> (of this 6 part series): <strong><u>Retention Strategies</u></strong><br />\n<br />\nThis Module will discuss the implications of employee turnover\, the reasons&nbsp\; for turnover\, what you can do to become an employer of choice\, and how you can build employee loyalty. Helpful tools are attached at the back of the module for&nbsp\;your use.&nbsp\;<br />\n<br />\nClick <u><strong><a href="http://www.brandonchamber.ca/wp-content/uploads/2014/08/Spirit-Staffing.pdf">here</a></strong></u> for complete module details<br />\n&nbsp\;
LOCATION:iusOpes3/ Spirit Staffing & Consulting Office: 3A 457 9th St Brandon\, MB
UID:e.1595.111
SEQUENCE:3
DTSTAMP:20260421T040408Z
URL:https://dev.brandonchamber.ca/events/details/iusopes-managing-your-human-assets-09-16-2014-111
END:VEVENT

END:VCALENDAR
