BEGIN:VCALENDAR
VERSION:2.0
PRODID:-//ChamberMaster//Event Calendar 2.0//EN
METHOD:PUBLISH
X-PUBLISHED-TTL:P3D
REFRESH-INTERVAL:P3D
CALSCALE:GREGORIAN
BEGIN:VEVENT
DTSTART:20140911T230000Z
DTEND:20140912T030000Z
X-MICROSOFT-CDO-ALLDAYEVENT:FALSE
SUMMARY:iusOpes: Managing Your Human Assets
DESCRIPTION:Module 4 (of this 6 part series): Analyzing\, Posting and Selecting\n\n\n\nThis Module presents information and tools to support employers who are faced with position vacancies. The module takes a step-by-step approach to position assessment\, recruitment\, and selection. The following stages will be addressed in the module:\n\n1)Review the position that is vacant\n\n2)Decide if the recruitment for the position should proceed\n\n3)Determine the requirements of the position\n\n4)Determine the training for the position\n\n5)Develop an effective job posting\n\n6)Develop an effective application process\n\n7)Make effective use of an exit interview strategy so that the future of the position can be improved based on historical performance. \n\n\n\nClick here for complete module details
X-ALT-DESC;FMTTYPE=text/html:<u><strong>Module&nbsp\;4</strong></u> (of this 6 part series): <strong><u>Analyzing\, Posting and Selecting</u></strong><br />\n<br />\nThis Module presents information and tools to support employers who are faced with position vacancies. The&nbsp\;module takes a step-by-step approach to position assessment\, recruitment\, and selection. The following stages will be addressed in the module:<br />\n1)Review the position that is vacant<br />\n2)Decide if the recruitment for the position should proceed<br />\n3)Determine the requirements of the position<br />\n4)Determine the training for the position<br />\n5)Develop an effective job posting<br />\n6)Develop an effective application process<br />\n7)Make effective use of an exit interview strategy so that the future of the position can be improved based on historical performance.&nbsp\;<br />\n<br />\nClick <u><strong><a href="http://www.brandonchamber.ca/wp-content/uploads/2014/08/Spirit-Staffing.pdf">here</a></strong></u> for complete module details<br />\n&nbsp\;
LOCATION:iusOpes3/ Spirit Staffing & Consulting Office: 3A 457 9th St Brandon\, MB
UID:e.1595.110
SEQUENCE:3
DTSTAMP:20260421T041525Z
URL:https://dev.brandonchamber.ca/events/details/iusopes-managing-your-human-assets-09-11-2014-110
END:VEVENT

END:VCALENDAR
