BEGIN:VCALENDAR
VERSION:2.0
PRODID:-//ChamberMaster//Event Calendar 2.0//EN
METHOD:PUBLISH
X-PUBLISHED-TTL:P3D
REFRESH-INTERVAL:P3D
CALSCALE:GREGORIAN
BEGIN:VEVENT
DTSTART:20140909T230000Z
DTEND:20140910T030000Z
X-MICROSOFT-CDO-ALLDAYEVENT:FALSE
SUMMARY:iusOpes: Managing Your Human Assets
DESCRIPTION:Module 3 (of this 6 part series): Hiring Strategies\n\n\n\nThis Module will explore the following areas: pre-screening\, conducting effective interviews\, making a hiring decision\, and embracing diversity. Various forms and sample interview questions are included at the end of the module to help you in your human resource planning.\n\n\n\nClick here for complete module details
X-ALT-DESC;FMTTYPE=text/html:<u><strong>Module&nbsp\;3</strong></u> (of this 6 part series): <strong><u>Hiring&nbsp\;Strategies</u></strong><br />\n<br />\nThis Module will explore the following areas: pre-screening\, conducting effective interviews\, making a hiring decision\, and embracing diversity. Various forms and sample interview questions are included at the end of the module to help you in your human resource planning.<br />\n<br />\nClick <u><strong><a href="http://www.brandonchamber.ca/wp-content/uploads/2014/08/Spirit-Staffing.pdf">here</a></strong></u> for complete module details<br />\n&nbsp\;
LOCATION:iusOpes3/ Spirit Staffing & Consulting Office: 3A 457 9th St Brandon\, MB
UID:e.1595.109
SEQUENCE:3
DTSTAMP:20260421T040730Z
URL:https://dev.brandonchamber.ca/events/details/iusopes-managing-your-human-assets-09-09-2014-109
END:VEVENT

END:VCALENDAR
