BEGIN:VCALENDAR
VERSION:2.0
PRODID:-//ChamberMaster//Event Calendar 2.0//EN
METHOD:PUBLISH
X-PUBLISHED-TTL:P3D
REFRESH-INTERVAL:P3D
CALSCALE:GREGORIAN
BEGIN:VEVENT
DTSTART:20140904T230000Z
DTEND:20140905T030000Z
X-MICROSOFT-CDO-ALLDAYEVENT:FALSE
SUMMARY:iusOpes: Managing Your Human Assets
DESCRIPTION:Module 2 (of this 6 part series): Recruitment Strategies\n\n\n\nThis Module will guide you through the recruitment process\, from start to finish. It will cover the following topics: how to write job descriptions\, how to access the workforce\, and how to diversify your workforce. There are forms at the back of the module that you will be able to use to help you during your own recruitment strategy.\n\n\n\nClick here for complete module details
X-ALT-DESC;FMTTYPE=text/html:<u><strong>Module&nbsp\;2</strong></u> (of this 6 part series): <strong><u>Recruitment Strategies</u></strong><br />\n<br />\nThis Module will guide you through the recruitment process\, from start to finish. It will cover the following topics: how to write&nbsp\;job descriptions\, how to access the workforce\, and how to diversify your workforce. There are forms at the back of the module that you will be able to use to help you during your own recruitment strategy.<br />\n<br />\nClick <u><strong><a href="http://www.brandonchamber.ca/wp-content/uploads/2014/08/Spirit-Staffing.pdf">here</a></strong></u> for complete module details<br />\n&nbsp\;
LOCATION:iusOpes / Spirit Staffing & Consulting Office: 3A 457 9th St Brandon\, MB
UID:e.1595.108
SEQUENCE:3
DTSTAMP:20260421T040456Z
URL:https://dev.brandonchamber.ca/events/details/iusopes-managing-your-human-assets-09-04-2014-108
END:VEVENT

END:VCALENDAR
